Workbook
Name field_output_CONT: #REF!
Name field_output_cost: #REF!
Name field_output_cost: #REF!
Name field_output_cost: #REF!
Name field_output_cost: #REF!
Name field_output_cost: #REF!
Name field_output_hours: #REF!
Name field_output_hours: #REF!
Name field_output_hours: #REF!
Name field_output_hours: #REF!
Name field_output_hours: #REF!
Name field_output_tot_cont: #REF!

Sheet Instructions
A1: INSTRUCTIONS – COST PROPOSAL FORM
A3: Purpose
A4: Use this workbook to provide the Cost Proposal for the Prime Consultant and all proposed Subconsultants. The Consultant tabs capture hours, rates, and labor cost by Job Title/ASCE-NICET Grade, and the Summary tab consolidates the proposal.
A6: 1. Complete the Consultant tabs
A7: • Consultant1 is for the Prime Consultant. Consultant2 through Consultant10 are for proposed Subconsultants.
A8: • Enter the full firm name in Row 1 of the applicable Consultant tab.
A9: • On Consultant1, list every Job Title/ASCE-NICET Grade proposed for the project, including titles used only by a Subconsultant. The same title list is carried to the Subconsultant tabs automatically.
A10: • For each firm, enter the Hours This Firm in Column C and the Average Hourly Rate in Column D for each applicable title/grade.
A11: • Total Hours in Column B and Labor Cost in Column E are calculated automatically. Do not overwrite calculated cells.
A12: • Enter the Interim Overhead Factor in the designated field. The Profit Factor, Interim Multiplier, Total Labor Cost, Maximum Escalation Factor, and Total Labor Escalated to Project Midpoint are calculated or pre-established by the form.
A13: • Leave unused rows and unused Consultant tabs blank. Do not enter zeros where no hours or rate are proposed.
A15: 2. Complete the Summary tab
... A29: • Do not overwrite protected formula/calculation cells.

Sheet Summary
A1: Consultant Name | B1: Hours per Consultant | C1: Cost Per Consultant | D1: DIRECT NON-SALARY COST (DNSC)* | E1: Total Cost per Consultant (Cost + DNSC)
A2: =IF(Consultant1!A1="","",Consultant1!A1) -> Prime Consultant**: | B2: =IF(OR(Consultant1!C34="",Consultant1!C34=0),"",Consultant1!C34) | C2: =IF(Consultant1!B42="","",Consultant1!B42) | E2: =IF(C2="","",SUM(C2:D2))
A3: =IF(Consultant2!A1="","",Consultant2!A1) -> SubConsultant: | B3: =IF(OR(Consultant2!C34="",Consultant2!C34=0),"",Consultant2!C34) | C3: =IF(Consultant2!B42="","",Consultant2!B42) | E3: =IF(C3="","",SUM(C3:D3))
A4: =IF(Consultant3!A1="","",Consultant3!A1) -> SubConsultant: | B4: =IF(OR(Consultant3!C34="",Consultant3!C34=0),"",Consultant3!C34) | C4: =IF(Consultant3!B42="","",Consultant3!B42) | E4: =IF(C4="","",SUM(C4:D4))
A5: =IF(Consultant4!A1="","",Consultant4!A1) -> SubConsultant: | B5: =IF(Consultant4!C34="","",Consultant4!C34) | C5: =IF(Consultant4!B42="","",Consultant4!B42) | E5: =IF(C5="","",SUM(C5:D5))
A6: =IF(Consultant5!A1="","",Consultant5!A1) -> SubConsultant: | B6: =IF(Consultant5!C34="","",Consultant5!C34) | C6: =IF(Consultant5!B42="","",Consultant5!B42) | E6: =IF(C6="","",SUM(C6:D6))
A7: =IF(Consultant6!A1="","",Consultant6!A1) -> SubConsultant: | B7: =IF(Consultant6!C34="","",Consultant6!C34) | C7: =IF(Consultant6!B42="","",Consultant6!B42) | E7: =IF(C7="","",SUM(C7:D7))
A8: =IF(Consultant7!A1="","",Consultant7!A1) -> SubConsultant: | B8: =IF(Consultant7!C34="","",Consultant7!C34) | C8: =IF(Consultant7!B42="","",Consultant7!B42) | E8: =IF(C8="","",SUM(C8:D8))
A9: =IF(Consultant8!A1="","",Consultant8!A1) -> SubConsultant: | B9: =IF(Consultant8!C34="","",Consultant8!C34) | C9: =IF(Consultant8!B42="","",Consultant8!B42) | E9: =IF(C9="","",SUM(C9:D9))
A10: =IF(Consultant9!A1="","",Consultant9!A1) -> SubConsultant: | B10: =IF(Consultant9!C34="","",Consultant9!C34) | C10: =IF(Consultant9!B42="","",Consultant9!B42) | E10: =IF(C10="","",SUM(C10:D10))
A11: =IF(Consultant10!A1="","",Consultant10!A1) -> SubConsultant: | B11: =IF(Consultant10!C34="","",Consultant10!C34) | C11: =IF(Consultant10!B42="","",Consultant10!B42) | E11: =IF(C11="","",SUM(C11:D11))
A12: Total | B12: =IF(COUNT(B2:B11)=0,"",SUM(B2:B11)) | C12: =IF(COUNT(C2:C11)=0,"",SUM(C2:C11)) | D12: =IF(COUNT(D2:D11)=0,"",SUM(D2:D11)) | E12: =IF(COUNT(C12:D12)=0,"",SUM(C12:D12))
A13: Budgetary Allowance (BA) | E13: 202000
A14: Contingency Allowance (CA) | E14: 92000
A15: Grand Total (Total Salary Cost + DSNC Total + BA + CA) | E15: =IF(COUNT(C2:C11)+COUNT(D2:D11)=0,"",SUM(C2:C11)+SUM(D2:D11)+E13+E14)
A17: * DNSC must be itemized by Consultant(s) in the excel upload sheet. $122,500.00 is allocated
A19: **Prime Vendor, Percentage Hours Worked. Must be above 51% | D19: =IF(OR(B2="",B12="",B12=0),"",B2/B12)

Sheet Consultant1
A1: Prime Consultant**:
A2: Job Title ASCE/NICET Grade | B2: Total Hours | C2: Hours This Firm | D2: Average Hourly Rate | E2: Labor Cost
B3: =IF(SUM(C3,Consultant2!C3,Consultant3!C3,Consultant4!C3,Consultant5!C3,Consultant6!C3,Consultant7!C3,Consultant8!C3,Consultant9!C3,Consultant10!C3)=0,"",SUM(C3,Consultant2!C3,Consultant3!C3,Consultant4!C3,Consultant5!C3,Consultant6!C3,Consultant7!C3,Consultant8!C3,Consultant9!C3,Consultant10!C3)) | E3: =IF(OR(C3="",D3=""),"",C3*D3)
B4: =IF(SUM(C4,Consultant2!C4,Consultant3!C4,Consultant4!C4,Consultant5!C4,Consultant6!C4,Consultant7!C4,Consultant8!C4,Consultant9!C4,Consultant10!C4)=0,"",SUM(C4,Consultant2!C4,Consultant3!C4,Consultant4!C4,Consultant5!C4,Consultant6!C4,Consultant7!C4,Consultant8!C4,Consultant9!C4,Consultant10!C4)) | E4: =IF(OR(C4="",D4=""),"",C4*D4)
B5: =IF(SUM(C5,Consultant2!C5,Consultant3!C5,Consultant4!C5,Consultant5!C5,Consultant6!C5,Consultant7!C5,Consultant8!C5,Consultant9!C5,Consultant10!C5)=0,"",SUM(C5,Consultant2!C5,Consultant3!C5,Consultant4!C5,Consultant5!C5,Consultant6!C5,Consultant7!C5,Consultant8!C5,Consultant9!C5,Consultant10!C5)) | E5: =IF(OR(C5="",D5=""),"",C5*D5)
B6: =IF(SUM(C6,Consultant2!C6,Consultant3!C6,Consultant4!C6,Consultant5!C6,Consultant6!C6,Consultant7!C6,Consultant8!C6,Consultant9!C6,Consultant10!C6)=0,"",SUM(C6,Consultant2!C6,Consultant3!C6,Consultant4!C6,Consultant5!C6,Consultant6!C6,Consultant7!C6,Consultant8!C6,Consultant9!C6,Consultant10!C6)) | E6: =IF(OR(C6="",D6=""),"",C6*D6)
B7: =IF(SUM(C7,Consultant2!C7,Consultant3!C7,Consultant4!C7,Consultant5!C7,Consultant6!C7,Consultant7!C7,Consultant8!C7,Consultant9!C7,Consultant10!C7)=0,"",SUM(C7,Consultant2!C7,Consultant3!C7,Consultant4!C7,Consultant5!C7,Consultant6!C7,Consultant7!C7,Consultant8!C7,Consultant9!C7,Consultant10!C7)) | E7: =IF(OR(C7="",D7=""),"",C7*D7)
B8: =IF(SUM(C8,Consultant2!C8,Consultant3!C8,Consultant4!C8,Consultant5!C8,Consultant6!C8,Consultant7!C8,Consultant8!C8,Consultant9!C8,Consultant10!C8)=0,"",SUM(C8,Consultant2!C8,Consultant3!C8,Consultant4!C8,Consultant5!C8,Consultant6!C8,Consultant7!C8,Consultant8!C8,Consultant9!C8,Consultant10!C8)) | E8: =IF(OR(C8="",D8=""),"",C8*D8)
B9: =IF(SUM(C9,Consultant2!C9,Consultant3!C9,Consultant4!C9,Consultant5!C9,Consultant6!C9,Consultant7!C9,Consultant8!C9,Consultant9!C9,Consultant10!C9)=0,"",SUM(C9,Consultant2!C9,Consultant3!C9,Consultant4!C9,Consultant5!C9,Consultant6!C9,Consultant7!C9,Consultant8!C9,Consultant9!C9,Consultant10!C9)) | E9: =IF(OR(C9="",D9=""),"",C9*D9)
B10: =IF(SUM(C10,Consultant2!C10,Consultant3!C10,Consultant4!C10,Consultant5!C10,Consultant6!C10,Consultant7!C10,Consultant8!C10,Consultant9!C10,Consultant10!C10)=0,"",SUM(C10,Consultant2!C10,Consultant3!C10,Consultant4!C10,Consultant5!C10,Consultant6!C10,Consultant7!C10,Consultant8!C10,Consultant9!C10,Consultant10!C10)) | E10: =IF(OR(C10="",D10=""),"",C10*D10)
B11: =IF(SUM(C11,Consultant2!C11,Consultant3!C11,Consultant4!C11,Consultant5!C11,Consultant6!C11,Consultant7!C11,Consultant8!C11,Consultant9!C11,Consultant10!C11)=0,"",SUM(C11,Consultant2!C11,Consultant3!C11,Consultant4!C11,Consultant5!C11,Consultant6!C11,Consultant7!C11,Consultant8!C11,Consultant9!C11,Consultant10!C11)) | E11: =IF(OR(C11="",D11=""),"",C11*D11)
B12: =IF(SUM(C12,Consultant2!C12,Consultant3!C12,Consultant4!C12,Consultant5!C12,Consultant6!C12,Consultant7!C12,Consultant8!C12,Consultant9!C12,Consultant10!C12)=0,"",SUM(C12,Consultant2!C12,Consultant3!C12,Consultant4!C12,Consultant5!C12,Consultant6!C12,Consultant7!C12,Consultant8!C12,Consultant9!C12,Consultant10!C12)) | E12: =IF(OR(C12="",D12=""),"",C12*D12)
B13: =IF(SUM(C13,Consultant2!C13,Consultant3!C13,Consultant4!C13,Consultant5!C13,Consultant6!C13,Consultant7!C13,Consultant8!C13,Consultant9!C13,Consultant10!C13)=0,"",SUM(C13,Consultant2!C13,Consultant3!C13,Consultant4!C13,Consultant5!C13,Consultant6!C13,Consultant7!C13,Consultant8!C13,Consultant9!C13,Consultant10!C13)) | E13: =IF(OR(C13="",D13=""),"",C13*D13)
B14: =IF(SUM(C14,Consultant2!C14,Consultant3!C14,Consultant4!C14,Consultant5!C14,Consultant6!C14,Consultant7!C14,Consultant8!C14,Consultant9!C14,Consultant10!C14)=0,"",SUM(C14,Consultant2!C14,Consultant3!C14,Consultant4!C14,Consultant5!C14,Consultant6!C14,Consultant7!C14,Consultant8!C14,Consultant9!C14,Consultant10!C14)) | E14: =IF(OR(C14="",D14=""),"",C14*D14)
... B33: =IF(SUM(C33,Consultant2!C33,Consultant3!C33,Consultant4!C33,Consultant5!C33,Consultant6!C33,Consultant7!C33,Consultant8!C33,Consultant9!C33,Consultant10!C33)=0,"",SUM(C33,Consultant2!C33,Consultant3!C33,Consultant4!C33,Consultant5!C33,Consultant6!C33,Consultant7!C33,Consultant8!C33,Consultant9!C33,Consultant10!C33)) | E33: =IF(OR(C33="",D33=""),"",C33*D33)
B34: =SUM(Table2[Total Hours]) -> 0 | C34: =SUM(Table2[Hours this Firm]) -> 0 | E34: =SUM(Table2[Labor Cost]) -> 0
A37: Interim Overhead Factor
A38: Profit Factor | B38: 0.1
A39: Interim Multiplier | B39: =IF(B37="","",ROUND((1+B37)*(1+B38),3))
A40: Total Labor Cost | B40: =IF(OR(E34="",B39=""),"",E34*B39)
A41: Maximum Escalation Factor | B41: 1.1
A42: Total Labor Escalated to Project Midpoint (Grand Total Cost) | B42: =IF(OR(B40="",B41=""),"",B40*B41)

Sheet Consultant2
A1: SubConsultant:
A2: Job Title ASCE/NICET Grade | B2: Total Hours | C2: Hours This Firm | D2: Average Hourly Rate | E2: Labor Cost
A3: =IF(Consultant1!A3="","",Consultant1!A3) | B3: =IF(Consultant1!B3="","",Consultant1!B3) | E3: =IF(OR(C3="",D3=""),"",C3*D3)
A4: =IF(Consultant1!A4="","",Consultant1!A4) | B4: =IF(Consultant1!B4="","",Consultant1!B4) | E4: =IF(OR(C4="",D4=""),"",C4*D4)
A5: =IF(Consultant1!A5="","",Consultant1!A5) | B5: =IF(Consultant1!B5="","",Consultant1!B5) | E5: =IF(OR(C5="",D5=""),"",C5*D5)
A6: =IF(Consultant1!A6="","",Consultant1!A6) | B6: =IF(Consultant1!B6="","",Consultant1!B6) | E6: =IF(OR(C6="",D6=""),"",C6*D6)
A7: =IF(Consultant1!A7="","",Consultant1!A7) | B7: =IF(Consultant1!B7="","",Consultant1!B7) | E7: =IF(OR(C7="",D7=""),"",C7*D7)
A8: =IF(Consultant1!A8="","",Consultant1!A8) | B8: =IF(Consultant1!B8="","",Consultant1!B8) | E8: =IF(OR(C8="",D8=""),"",C8*D8)
A9: =IF(Consultant1!A9="","",Consultant1!A9) | B9: =IF(Consultant1!B9="","",Consultant1!B9) | E9: =IF(OR(C9="",D9=""),"",C9*D9)
A10: =IF(Consultant1!A10="","",Consultant1!A10) | B10: =IF(Consultant1!B10="","",Consultant1!B10) | E10: =IF(OR(C10="",D10=""),"",C10*D10)
A11: =IF(Consultant1!A11="","",Consultant1!A11) | B11: =IF(Consultant1!B11="","",Consultant1!B11) | E11: =IF(OR(C11="",D11=""),"",C11*D11)
A12: =IF(Consultant1!A12="","",Consultant1!A12) | B12: =IF(Consultant1!B12="","",Consultant1!B12) | E12: =IF(OR(C12="",D12=""),"",C12*D12)
A13: =IF(Consultant1!A13="","",Consultant1!A13) | B13: =IF(Consultant1!B13="","",Consultant1!B13) | E13: =IF(OR(C13="",D13=""),"",C13*D13)
A14: =IF(Consultant1!A14="","",Consultant1!A14) | B14: =IF(Consultant1!B14="","",Consultant1!B14) | E14: =IF(OR(C14="",D14=""),"",C14*D14)
... A33: =IF(Consultant1!A33="","",Consultant1!A33) | B33: =IF(Consultant1!B33="","",Consultant1!B33) | E33: =IF(OR(C33="",D33=""),"",C33*D33)
A34: TOTAL | B34: =SUM(Table24[Total Hours]) -> 0 | C34: =SUM(Table24[Hours This Firm]) -> 0 | E34: =SUM(Table24[Labor Cost]) -> 0
A37: Interim Overhead Factor
A38: Profit Factor | B38: 0.1
A39: Interim Multiplier | B39: =IF(B37="","",ROUND((1+B37)*(1+B38),3))
A40: Total Labor Cost | B40: =IF(OR(E34="",B39=""),"",E34*B39)
A41: Maximum Escalation Factor | B41: 1.1
A42: Total Labor Escalated to Project Midpoint (Grand Total Cost) | B42: =IF(OR(B40="",B41=""),"",B40*B41)

Sheet Consultant3
A1: SubConsultant:
A2: Job Title ASCE/NICET Grade | B2: Total Hours | C2: Hours This Firm | D2: Average Hourly Rate | E2: Labor Cost
A3: =IF(Consultant1!A3="","",Consultant1!A3) | B3: =IF(Consultant1!B3="","",Consultant1!B3) | E3: =IF(OR(C3="",D3=""),"",C3*D3)
A4: =IF(Consultant1!A4="","",Consultant1!A4) | B4: =IF(Consultant1!B4="","",Consultant1!B4) | E4: =IF(OR(C4="",D4=""),"",C4*D4)
A5: =IF(Consultant1!A5="","",Consultant1!A5) | B5: =IF(Consultant1!B5="","",Consultant1!B5) | E5: =IF(OR(C5="",D5=""),"",C5*D5)
A6: =IF(Consultant1!A6="","",Consultant1!A6) | B6: =IF(Consultant1!B6="","",Consultant1!B6) | E6: =IF(OR(C6="",D6=""),"",C6*D6)
A7: =IF(Consultant1!A7="","",Consultant1!A7) | B7: =IF(Consultant1!B7="","",Consultant1!B7) | E7: =IF(OR(C7="",D7=""),"",C7*D7)
A8: =IF(Consultant1!A8="","",Consultant1!A8) | B8: =IF(Consultant1!B8="","",Consultant1!B8) | E8: =IF(OR(C8="",D8=""),"",C8*D8)
A9: =IF(Consultant1!A9="","",Consultant1!A9) | B9: =IF(Consultant1!B9="","",Consultant1!B9) | E9: =IF(OR(C9="",D9=""),"",C9*D9)
A10: =IF(Consultant1!A10="","",Consultant1!A10) | B10: =IF(Consultant1!B10="","",Consultant1!B10) | E10: =IF(OR(C10="",D10=""),"",C10*D10)
A11: =IF(Consultant1!A11="","",Consultant1!A11) | B11: =IF(Consultant1!B11="","",Consultant1!B11) | E11: =IF(OR(C11="",D11=""),"",C11*D11)
A12: =IF(Consultant1!A12="","",Consultant1!A12) | B12: =IF(Consultant1!B12="","",Consultant1!B12) | E12: =IF(OR(C12="",D12=""),"",C12*D12)
A13: =IF(Consultant1!A13="","",Consultant1!A13) | B13: =IF(Consultant1!B13="","",Consultant1!B13) | E13: =IF(OR(C13="",D13=""),"",C13*D13)
A14: =IF(Consultant1!A14="","",Consultant1!A14) | B14: =IF(Consultant1!B14="","",Consultant1!B14) | E14: =IF(OR(C14="",D14=""),"",C14*D14)
... A33: =IF(Consultant1!A33="","",Consultant1!A33) | B33: =IF(Consultant1!B33="","",Consultant1!B33) | E33: =IF(OR(C33="",D33=""),"",C33*D33)
A34: TOTAL | B34: =SUM(Table2412[Total Hours]) -> 0 | C34: =SUM(Table2412[Hours This Firm]) -> 0 | E34: =SUM(Table2412[Labor Cost]) -> 0
A37: Interim Overhead Factor
A38: Profit Factor | B38: 0.1
A39: Interim Multiplier | B39: =IF(B37="","",ROUND((1+B37)*(1+B38),3))
A40: Total Labor Cost | B40: =IF(OR(E34="",B39=""),"",E34*B39)
A41: Maximum Escalation Factor | B41: 1.1
A42: Total Labor Escalated to Project Midpoint (Grand Total Cost) | B42: =IF(OR(B40="",B41=""),"",B40*B41)

Sheet Consultant4
A1: SubConsultant:
A2: Job Title ASCE/NICET Grade | B2: Total Hours | C2: Hours This Firm | D2: Average Hourly Rate | E2: Labor Cost
A3: =IF(Consultant1!A3="","",Consultant1!A3) | B3: =IF(Consultant1!B3="","",Consultant1!B3) | E3: =IF(OR(C3="",D3=""),"",C3*D3)
A4: =IF(Consultant1!A4="","",Consultant1!A4) | B4: =IF(Consultant1!B4="","",Consultant1!B4) | E4: =IF(OR(C4="",D4=""),"",C4*D4)
A5: =IF(Consultant1!A5="","",Consultant1!A5) | B5: =IF(Consultant1!B5="","",Consultant1!B5) | E5: =IF(OR(C5="",D5=""),"",C5*D5)
A6: =IF(Consultant1!A6="","",Consultant1!A6) | B6: =IF(Consultant1!B6="","",Consultant1!B6) | E6: =IF(OR(C6="",D6=""),"",C6*D6)
A7: =IF(Consultant1!A7="","",Consultant1!A7) | B7: =IF(Consultant1!B7="","",Consultant1!B7) | E7: =IF(OR(C7="",D7=""),"",C7*D7)
A8: =IF(Consultant1!A8="","",Consultant1!A8) | B8: =IF(Consultant1!B8="","",Consultant1!B8) | E8: =IF(OR(C8="",D8=""),"",C8*D8)
A9: =IF(Consultant1!A9="","",Consultant1!A9) | B9: =IF(Consultant1!B9="","",Consultant1!B9) | E9: =IF(OR(C9="",D9=""),"",C9*D9)
A10: =IF(Consultant1!A10="","",Consultant1!A10) | B10: =IF(Consultant1!B10="","",Consultant1!B10) | E10: =IF(OR(C10="",D10=""),"",C10*D10)
A11: =IF(Consultant1!A11="","",Consultant1!A11) | B11: =IF(Consultant1!B11="","",Consultant1!B11) | E11: =IF(OR(C11="",D11=""),"",C11*D11)
A12: =IF(Consultant1!A12="","",Consultant1!A12) | B12: =IF(Consultant1!B12="","",Consultant1!B12) | E12: =IF(OR(C12="",D12=""),"",C12*D12)
A13: =IF(Consultant1!A13="","",Consultant1!A13) | B13: =IF(Consultant1!B13="","",Consultant1!B13) | E13: =IF(OR(C13="",D13=""),"",C13*D13)
A14: =IF(Consultant1!A14="","",Consultant1!A14) | B14: =IF(Consultant1!B14="","",Consultant1!B14) | E14: =IF(OR(C14="",D14=""),"",C14*D14)
... A33: =IF(Consultant1!A33="","",Consultant1!A33) | B33: =IF(Consultant1!B33="","",Consultant1!B33) | E33: =IF(OR(C33="",D33=""),"",C33*D33)
A34: TOTAL | B34: =IF(COUNT(B3:B33)=0,"",SUM(B3:B33)) | C34: =IF(COUNT(C3:C33)=0,"",SUM(C3:C33)) | E34: =IF(COUNT(E3:E33)=0,"",SUM(E3:E33))
A37: Interim Overhead Factor
A38: Profit Factor | B38: 0.1
A39: Interim Multiplier | B39: =IF(B37="","",ROUND((1+B37)*(1+B38),3))
A40: Total Labor Cost | B40: =IF(OR(E34="",B39=""),"",E34*B39)
A41: Maximum Escalation Factor | B41: 1.1
A42: Total Labor Escalated to Project Midpoint (Grand Total Cost) | B42: =IF(OR(B40="",B41=""),"",B40*B41)

Sheet Consultant5
A1: SubConsultant:
A2: Job Title ASCE/NICET Grade | B2: Total Hours | C2: Hours This Firm | D2: Average Hourly Rate | E2: Labor Cost
A3: =IF(Consultant1!A3="","",Consultant1!A3) | B3: =IF(Consultant1!B3="","",Consultant1!B3) | E3: =IF(OR(C3="",D3=""),"",C3*D3)
A4: =IF(Consultant1!A4="","",Consultant1!A4) | B4: =IF(Consultant1!B4="","",Consultant1!B4) | E4: =IF(OR(C4="",D4=""),"",C4*D4)
A5: =IF(Consultant1!A5="","",Consultant1!A5) | B5: =IF(Consultant1!B5="","",Consultant1!B5) | E5: =IF(OR(C5="",D5=""),"",C5*D5)
A6: =IF(Consultant1!A6="","",Consultant1!A6) | B6: =IF(Consultant1!B6="","",Consultant1!B6) | E6: =IF(OR(C6="",D6=""),"",C6*D6)
A7: =IF(Consultant1!A7="","",Consultant1!A7) | B7: =IF(Consultant1!B7="","",Consultant1!B7) | E7: =IF(OR(C7="",D7=""),"",C7*D7)
A8: =IF(Consultant1!A8="","",Consultant1!A8) | B8: =IF(Consultant1!B8="","",Consultant1!B8) | E8: =IF(OR(C8="",D8=""),"",C8*D8)
A9: =IF(Consultant1!A9="","",Consultant1!A9) | B9: =IF(Consultant1!B9="","",Consultant1!B9) | E9: =IF(OR(C9="",D9=""),"",C9*D9)
A10: =IF(Consultant1!A10="","",Consultant1!A10) | B10: =IF(Consultant1!B10="","",Consultant1!B10) | E10: =IF(OR(C10="",D10=""),"",C10*D10)
A11: =IF(Consultant1!A11="","",Consultant1!A11) | B11: =IF(Consultant1!B11="","",Consultant1!B11) | E11: =IF(OR(C11="",D11=""),"",C11*D11)
A12: =IF(Consultant1!A12="","",Consultant1!A12) | B12: =IF(Consultant1!B12="","",Consultant1!B12) | E12: =IF(OR(C12="",D12=""),"",C12*D12)
A13: =IF(Consultant1!A13="","",Consultant1!A13) | B13: =IF(Consultant1!B13="","",Consultant1!B13) | E13: =IF(OR(C13="",D13=""),"",C13*D13)
A14: =IF(Consultant1!A14="","",Consultant1!A14) | B14: =IF(Consultant1!B14="","",Consultant1!B14) | E14: =IF(OR(C14="",D14=""),"",C14*D14)
... A33: =IF(Consultant1!A33="","",Consultant1!A33) | B33: =IF(Consultant1!B33="","",Consultant1!B33) | E33: =IF(OR(C33="",D33=""),"",C33*D33)
A34: TOTAL | B34: =IF(COUNT(B3:B33)=0,"",SUM(B3:B33)) | C34: =IF(COUNT(C3:C33)=0,"",SUM(C3:C33)) | E34: =IF(COUNT(E3:E33)=0,"",SUM(E3:E33))
A37: Interim Overhead Factor
A38: Profit Factor | B38: 0.1
A39: Interim Multiplier | B39: =IF(B37="","",ROUND((1+B37)*(1+B38),3))
A40: Total Labor Cost | B40: =IF(OR(E34="",B39=""),"",E34*B39)
A41: Maximum Escalation Factor | B41: 1.1
A42: Total Labor Escalated to Project Midpoint (Grand Total Cost) | B42: =IF(OR(B40="",B41=""),"",B40*B41)

Sheet Consultant6
A1: SubConsultant:
A2: Job Title ASCE/NICET Grade | B2: Total Hours | C2: Hours This Firm | D2: Average Hourly Rate | E2: Labor Cost
A3: =IF(Consultant1!A3="","",Consultant1!A3) | B3: =IF(Consultant1!B3="","",Consultant1!B3) | E3: =IF(OR(C3="",D3=""),"",C3*D3)
A4: =IF(Consultant1!A4="","",Consultant1!A4) | B4: =IF(Consultant1!B4="","",Consultant1!B4) | E4: =IF(OR(C4="",D4=""),"",C4*D4)
A5: =IF(Consultant1!A5="","",Consultant1!A5) | B5: =IF(Consultant1!B5="","",Consultant1!B5) | E5: =IF(OR(C5="",D5=""),"",C5*D5)
A6: =IF(Consultant1!A6="","",Consultant1!A6) | B6: =IF(Consultant1!B6="","",Consultant1!B6) | E6: =IF(OR(C6="",D6=""),"",C6*D6)
A7: =IF(Consultant1!A7="","",Consultant1!A7) | B7: =IF(Consultant1!B7="","",Consultant1!B7) | E7: =IF(OR(C7="",D7=""),"",C7*D7)
A8: =IF(Consultant1!A8="","",Consultant1!A8) | B8: =IF(Consultant1!B8="","",Consultant1!B8) | E8: =IF(OR(C8="",D8=""),"",C8*D8)
A9: =IF(Consultant1!A9="","",Consultant1!A9) | B9: =IF(Consultant1!B9="","",Consultant1!B9) | E9: =IF(OR(C9="",D9=""),"",C9*D9)
A10: =IF(Consultant1!A10="","",Consultant1!A10) | B10: =IF(Consultant1!B10="","",Consultant1!B10) | E10: =IF(OR(C10="",D10=""),"",C10*D10)
A11: =IF(Consultant1!A11="","",Consultant1!A11) | B11: =IF(Consultant1!B11="","",Consultant1!B11) | E11: =IF(OR(C11="",D11=""),"",C11*D11)
A12: =IF(Consultant1!A12="","",Consultant1!A12) | B12: =IF(Consultant1!B12="","",Consultant1!B12) | E12: =IF(OR(C12="",D12=""),"",C12*D12)
A13: =IF(Consultant1!A13="","",Consultant1!A13) | B13: =IF(Consultant1!B13="","",Consultant1!B13) | E13: =IF(OR(C13="",D13=""),"",C13*D13)
A14: =IF(Consultant1!A14="","",Consultant1!A14) | B14: =IF(Consultant1!B14="","",Consultant1!B14) | E14: =IF(OR(C14="",D14=""),"",C14*D14)
... A33: =IF(Consultant1!A33="","",Consultant1!A33) | B33: =IF(Consultant1!B33="","",Consultant1!B33) | E33: =IF(OR(C33="",D33=""),"",C33*D33)
A34: TOTAL | B34: =IF(COUNT(B3:B33)=0,"",SUM(B3:B33)) | C34: =IF(COUNT(C3:C33)=0,"",SUM(C3:C33)) | E34: =IF(COUNT(E3:E33)=0,"",SUM(E3:E33))
A37: Interim Overhead Factor
A38: Profit Factor | B38: 0.1
A39: Interim Multiplier | B39: =IF(B37="","",ROUND((1+B37)*(1+B38),3))
A40: Total Labor Cost | B40: =IF(OR(E34="",B39=""),"",E34*B39)
A41: Maximum Escalation Factor | B41: 1.1
A42: Total Labor Escalated to Project Midpoint (Grand Total Cost) | B42: =IF(OR(B40="",B41=""),"",B40*B41)

Sheet Consultant7
A1: SubConsultant:
A2: Job Title ASCE/NICET Grade | B2: Total Hours | C2: Hours This Firm | D2: Average Hourly Rate | E2: Labor Cost
A3: =IF(Consultant1!A3="","",Consultant1!A3) | B3: =IF(Consultant1!B3="","",Consultant1!B3) | E3: =IF(OR(C3="",D3=""),"",C3*D3)
A4: =IF(Consultant1!A4="","",Consultant1!A4) | B4: =IF(Consultant1!B4="","",Consultant1!B4) | E4: =IF(OR(C4="",D4=""),"",C4*D4)
A5: =IF(Consultant1!A5="","",Consultant1!A5) | B5: =IF(Consultant1!B5="","",Consultant1!B5) | E5: =IF(OR(C5="",D5=""),"",C5*D5)
A6: =IF(Consultant1!A6="","",Consultant1!A6) | B6: =IF(Consultant1!B6="","",Consultant1!B6) | E6: =IF(OR(C6="",D6=""),"",C6*D6)
A7: =IF(Consultant1!A7="","",Consultant1!A7) | B7: =IF(Consultant1!B7="","",Consultant1!B7) | E7: =IF(OR(C7="",D7=""),"",C7*D7)
A8: =IF(Consultant1!A8="","",Consultant1!A8) | B8: =IF(Consultant1!B8="","",Consultant1!B8) | E8: =IF(OR(C8="",D8=""),"",C8*D8)
A9: =IF(Consultant1!A9="","",Consultant1!A9) | B9: =IF(Consultant1!B9="","",Consultant1!B9) | E9: =IF(OR(C9="",D9=""),"",C9*D9)
A10: =IF(Consultant1!A10="","",Consultant1!A10) | B10: =IF(Consultant1!B10="","",Consultant1!B10) | E10: =IF(OR(C10="",D10=""),"",C10*D10)
A11: =IF(Consultant1!A11="","",Consultant1!A11) | B11: =IF(Consultant1!B11="","",Consultant1!B11) | E11: =IF(OR(C11="",D11=""),"",C11*D11)
A12: =IF(Consultant1!A12="","",Consultant1!A12) | B12: =IF(Consultant1!B12="","",Consultant1!B12) | E12: =IF(OR(C12="",D12=""),"",C12*D12)
A13: =IF(Consultant1!A13="","",Consultant1!A13) | B13: =IF(Consultant1!B13="","",Consultant1!B13) | E13: =IF(OR(C13="",D13=""),"",C13*D13)
A14: =IF(Consultant1!A14="","",Consultant1!A14) | B14: =IF(Consultant1!B14="","",Consultant1!B14) | E14: =IF(OR(C14="",D14=""),"",C14*D14)
... A33: =IF(Consultant1!A33="","",Consultant1!A33) | B33: =IF(Consultant1!B33="","",Consultant1!B33) | E33: =IF(OR(C33="",D33=""),"",C33*D33)
A34: TOTAL | B34: =IF(COUNT(B3:B33)=0,"",SUM(B3:B33)) | C34: =IF(COUNT(C3:C33)=0,"",SUM(C3:C33)) | E34: =IF(COUNT(E3:E33)=0,"",SUM(E3:E33))
A37: Interim Overhead Factor
A38: Profit Factor | B38: 0.1
A39: Interim Multiplier | B39: =IF(B37="","",ROUND((1+B37)*(1+B38),3))
A40: Total Labor Cost | B40: =IF(OR(E34="",B39=""),"",E34*B39)
A41: Maximum Escalation Factor | B41: 1.1
A42: Total Labor Escalated to Project Midpoint (Grand Total Cost) | B42: =IF(OR(B40="",B41=""),"",B40*B41)

Sheet Consultant8
A1: SubConsultant:
A2: Job Title ASCE/NICET Grade | B2: Total Hours | C2: Hours This Firm | D2: Average Hourly Rate | E2: Labor Cost
A3: =IF(Consultant1!A3="","",Consultant1!A3) | B3: =IF(Consultant1!B3="","",Consultant1!B3) | E3: =IF(OR(C3="",D3=""),"",C3*D3)
A4: =IF(Consultant1!A4="","",Consultant1!A4) | B4: =IF(Consultant1!B4="","",Consultant1!B4) | E4: =IF(OR(C4="",D4=""),"",C4*D4)
A5: =IF(Consultant1!A5="","",Consultant1!A5) | B5: =IF(Consultant1!B5="","",Consultant1!B5) | E5: =IF(OR(C5="",D5=""),"",C5*D5)
A6: =IF(Consultant1!A6="","",Consultant1!A6) | B6: =IF(Consultant1!B6="","",Consultant1!B6) | E6: =IF(OR(C6="",D6=""),"",C6*D6)
A7: =IF(Consultant1!A7="","",Consultant1!A7) | B7: =IF(Consultant1!B7="","",Consultant1!B7) | E7: =IF(OR(C7="",D7=""),"",C7*D7)
A8: =IF(Consultant1!A8="","",Consultant1!A8) | B8: =IF(Consultant1!B8="","",Consultant1!B8) | E8: =IF(OR(C8="",D8=""),"",C8*D8)
A9: =IF(Consultant1!A9="","",Consultant1!A9) | B9: =IF(Consultant1!B9="","",Consultant1!B9) | E9: =IF(OR(C9="",D9=""),"",C9*D9)
A10: =IF(Consultant1!A10="","",Consultant1!A10) | B10: =IF(Consultant1!B10="","",Consultant1!B10) | E10: =IF(OR(C10="",D10=""),"",C10*D10)
A11: =IF(Consultant1!A11="","",Consultant1!A11) | B11: =IF(Consultant1!B11="","",Consultant1!B11) | E11: =IF(OR(C11="",D11=""),"",C11*D11)
A12: =IF(Consultant1!A12="","",Consultant1!A12) | B12: =IF(Consultant1!B12="","",Consultant1!B12) | E12: =IF(OR(C12="",D12=""),"",C12*D12)
A13: =IF(Consultant1!A13="","",Consultant1!A13) | B13: =IF(Consultant1!B13="","",Consultant1!B13) | E13: =IF(OR(C13="",D13=""),"",C13*D13)
A14: =IF(Consultant1!A14="","",Consultant1!A14) | B14: =IF(Consultant1!B14="","",Consultant1!B14) | E14: =IF(OR(C14="",D14=""),"",C14*D14)
... A33: =IF(Consultant1!A33="","",Consultant1!A33) | B33: =IF(Consultant1!B33="","",Consultant1!B33) | E33: =IF(OR(C33="",D33=""),"",C33*D33)
A34: TOTAL | B34: =IF(COUNT(B3:B33)=0,"",SUM(B3:B33)) | C34: =IF(COUNT(C3:C33)=0,"",SUM(C3:C33)) | E34: =IF(COUNT(E3:E33)=0,"",SUM(E3:E33))
A37: Interim Overhead Factor
A38: Profit Factor | B38: 0.1
A39: Interim Multiplier | B39: =IF(B37="","",ROUND((1+B37)*(1+B38),3))
A40: Total Labor Cost | B40: =IF(OR(E34="",B39=""),"",E34*B39)
A41: Maximum Escalation Factor | B41: 1.1
A42: Total Labor Escalated to Project Midpoint (Grand Total Cost) | B42: =IF(OR(B40="",B41=""),"",B40*B41)

Sheet Consultant9
A1: SubConsultant:
A2: Job Title ASCE/NICET Grade | B2: Total Hours | C2: Hours This Firm | D2: Average Hourly Rate | E2: Labor Cost
A3: =IF(Consultant1!A3="","",Consultant1!A3) | B3: =IF(Consultant1!B3="","",Consultant1!B3) | E3: =IF(OR(C3="",D3=""),"",C3*D3)
A4: =IF(Consultant1!A4="","",Consultant1!A4) | B4: =IF(Consultant1!B4="","",Consultant1!B4) | E4: =IF(OR(C4="",D4=""),"",C4*D4)
A5: =IF(Consultant1!A5="","",Consultant1!A5) | B5: =IF(Consultant1!B5="","",Consultant1!B5) | E5: =IF(OR(C5="",D5=""),"",C5*D5)
A6: =IF(Consultant1!A6="","",Consultant1!A6) | B6: =IF(Consultant1!B6="","",Consultant1!B6) | E6: =IF(OR(C6="",D6=""),"",C6*D6)
A7: =IF(Consultant1!A7="","",Consultant1!A7) | B7: =IF(Consultant1!B7="","",Consultant1!B7) | E7: =IF(OR(C7="",D7=""),"",C7*D7)
A8: =IF(Consultant1!A8="","",Consultant1!A8) | B8: =IF(Consultant1!B8="","",Consultant1!B8) | E8: =IF(OR(C8="",D8=""),"",C8*D8)
A9: =IF(Consultant1!A9="","",Consultant1!A9) | B9: =IF(Consultant1!B9="","",Consultant1!B9) | E9: =IF(OR(C9="",D9=""),"",C9*D9)
A10: =IF(Consultant1!A10="","",Consultant1!A10) | B10: =IF(Consultant1!B10="","",Consultant1!B10) | E10: =IF(OR(C10="",D10=""),"",C10*D10)
A11: =IF(Consultant1!A11="","",Consultant1!A11) | B11: =IF(Consultant1!B11="","",Consultant1!B11) | E11: =IF(OR(C11="",D11=""),"",C11*D11)
A12: =IF(Consultant1!A12="","",Consultant1!A12) | B12: =IF(Consultant1!B12="","",Consultant1!B12) | E12: =IF(OR(C12="",D12=""),"",C12*D12)
A13: =IF(Consultant1!A13="","",Consultant1!A13) | B13: =IF(Consultant1!B13="","",Consultant1!B13) | E13: =IF(OR(C13="",D13=""),"",C13*D13)
A14: =IF(Consultant1!A14="","",Consultant1!A14) | B14: =IF(Consultant1!B14="","",Consultant1!B14) | E14: =IF(OR(C14="",D14=""),"",C14*D14)
... A33: =IF(Consultant1!A33="","",Consultant1!A33) | B33: =IF(Consultant1!B33="","",Consultant1!B33) | E33: =IF(OR(C33="",D33=""),"",C33*D33)
A34: TOTAL | B34: =IF(COUNT(B3:B33)=0,"",SUM(B3:B33)) | C34: =IF(COUNT(C3:C33)=0,"",SUM(C3:C33)) | E34: =IF(COUNT(E3:E33)=0,"",SUM(E3:E33))
A37: Interim Overhead Factor
A38: Profit Factor | B38: 0.1
A39: Interim Multiplier | B39: =IF(B37="","",ROUND((1+B37)*(1+B38),3))
A40: Total Labor Cost | B40: =IF(OR(E34="",B39=""),"",E34*B39)
A41: Maximum Escalation Factor | B41: 1.1
A42: Total Labor Escalated to Project Midpoint (Grand Total Cost) | B42: =IF(OR(B40="",B41=""),"",B40*B41)

Sheet Consultant10
A1: SubConsultant:
A2: Job Title ASCE/NICET Grade | B2: Total Hours | C2: Hours This Firm | D2: Average Hourly Rate | E2: Labor Cost
A3: =IF(Consultant1!A3="","",Consultant1!A3) | B3: =IF(Consultant1!B3="","",Consultant1!B3) | E3: =IF(OR(C3="",D3=""),"",C3*D3)
A4: =IF(Consultant1!A4="","",Consultant1!A4) | B4: =IF(Consultant1!B4="","",Consultant1!B4) | E4: =IF(OR(C4="",D4=""),"",C4*D4)
A5: =IF(Consultant1!A5="","",Consultant1!A5) | B5: =IF(Consultant1!B5="","",Consultant1!B5) | E5: =IF(OR(C5="",D5=""),"",C5*D5)
A6: =IF(Consultant1!A6="","",Consultant1!A6) | B6: =IF(Consultant1!B6="","",Consultant1!B6) | E6: =IF(OR(C6="",D6=""),"",C6*D6)
A7: =IF(Consultant1!A7="","",Consultant1!A7) | B7: =IF(Consultant1!B7="","",Consultant1!B7) | E7: =IF(OR(C7="",D7=""),"",C7*D7)
A8: =IF(Consultant1!A8="","",Consultant1!A8) | B8: =IF(Consultant1!B8="","",Consultant1!B8) | E8: =IF(OR(C8="",D8=""),"",C8*D8)
A9: =IF(Consultant1!A9="","",Consultant1!A9) | B9: =IF(Consultant1!B9="","",Consultant1!B9) | E9: =IF(OR(C9="",D9=""),"",C9*D9)
A10: =IF(Consultant1!A10="","",Consultant1!A10) | B10: =IF(Consultant1!B10="","",Consultant1!B10) | E10: =IF(OR(C10="",D10=""),"",C10*D10)
A11: =IF(Consultant1!A11="","",Consultant1!A11) | B11: =IF(Consultant1!B11="","",Consultant1!B11) | E11: =IF(OR(C11="",D11=""),"",C11*D11)
A12: =IF(Consultant1!A12="","",Consultant1!A12) | B12: =IF(Consultant1!B12="","",Consultant1!B12) | E12: =IF(OR(C12="",D12=""),"",C12*D12)
A13: =IF(Consultant1!A13="","",Consultant1!A13) | B13: =IF(Consultant1!B13="","",Consultant1!B13) | E13: =IF(OR(C13="",D13=""),"",C13*D13)
A14: =IF(Consultant1!A14="","",Consultant1!A14) | B14: =IF(Consultant1!B14="","",Consultant1!B14) | E14: =IF(OR(C14="",D14=""),"",C14*D14)
... A33: =IF(Consultant1!A33="","",Consultant1!A33) | B33: =IF(Consultant1!B33="","",Consultant1!B33) | E33: =IF(OR(C33="",D33=""),"",C33*D33)
A34: TOTAL | B34: =IF(COUNT(B3:B33)=0,"",SUM(B3:B33)) | C34: =IF(COUNT(C3:C33)=0,"",SUM(C3:C33)) | E34: =IF(COUNT(E3:E33)=0,"",SUM(E3:E33))
A37: Interim Overhead Factor
A38: Profit Factor | B38: 0.1
A39: Interim Multiplier | B39: =IF(B37="","",ROUND((1+B37)*(1+B38),3))
A40: Total Labor Cost | B40: =IF(OR(E34="",B39=""),"",E34*B39)
A41: Maximum Escalation Factor | B41: 1.1
A42: Total Labor Escalated to Project Midpoint (Grand Total Cost) | B42: =IF(OR(B40="",B41=""),"",B40*B41)
