Workbook
Name field_output_CONT: #REF!
Name field_output_cost: #REF!
Name field_output_hours: #REF!
Name field_output_tot_cont: #REF!

Sheet INSTRUCTIONS
B1: INSTRUCTIONS:
B2: ENTER DATA ONLY INTO THE ORANGE CELLS. LEAVE ALL GRAY-COLORED CELLS UNCHANGED.
A3: 1 | B3: Enter the firm name in cell B1
A4: 2 | B4: PRIME firm enters the Job Title ASCE/NICET Grade in column A on the PRIME tab
A5: 3 | B5: Enter "Hours This Firm" in column C

Sheet SUMMARY
A1: 84126P0001-Develop, Deploy, Support and Maintain Existing and Future Citywide Transit Signal Priority (TSP)
A2: Contractor Name | B2: Hours per Contractor
A3: =PRIME!B1 -> enter firm name | B3: =PRIME!C41 -> 0
A4: ='Subconsultant(1)'!B1 -> enter firm name | B4: ='Subconsultant(1)'!C41 -> 0
A5: ='Subconsultant(2)'!B1 -> enter firm name | B5: ='Subconsultant(2)'!C41 -> 0
A6: ='Subconsultant(3)'!B1 -> enter firm name | B6: ='Subconsultant(3)'!C41 -> 0
A7: ='Subconsultant(4)'!B1 -> enter firm name | B7: ='Subconsultant(4)'!C41 -> 0
A8: ='Subconsultant(5)'!B1 -> enter firm name | B8: ='Subconsultant(5)'!C41 -> 0
A9: ='Subconsultant(6)'!B1 -> enter firm name | B9: ='Subconsultant(6)'!C41 -> 0
A10: ='Subconsultant(7)'!B1 -> enter firm name | B10: ='Subconsultant(7)'!C41 -> 0
A11: ='Subconsultant(8)'!B1 -> enter firm name | B11: ='Subconsultant(8)'!C41 -> 0
A12: ='Subconsultant(9)'!B1 -> enter firm name | B12: ='Subconsultant(9)'!C41 -> 0
A16: Total | B16: =SUM(Table18[Hours per Contractor]) -> 0

Sheet PRIME
A1: PRIME: | B1: enter firm name
A2: Job Title ASCE/NICET Grade | B2: Total Hours | C2: Hours this Firm
B3: =C3+'Subconsultant(1)'!C3+'Subconsultant(2)'!C3+'Subconsultant(3)'!C3+'Subconsultant(4)'!C3+'Subconsultant(5)'!C3+'Subconsultant(6)'!C3+'Subconsultant(7)'!C3+'Subconsultant(8)'!C3+'Subconsultant(9)'!C3 -> 0
B4: =C4+'Subconsultant(1)'!C4+'Subconsultant(2)'!C4+'Subconsultant(3)'!C4+'Subconsultant(4)'!C4+'Subconsultant(5)'!C4+'Subconsultant(6)'!C4+'Subconsultant(7)'!C4+'Subconsultant(8)'!C4+'Subconsultant(9)'!C4 -> 0
B5: =C5+'Subconsultant(1)'!C5+'Subconsultant(2)'!C5+'Subconsultant(3)'!C5+'Subconsultant(4)'!C5+'Subconsultant(5)'!C5+'Subconsultant(6)'!C5+'Subconsultant(7)'!C5+'Subconsultant(8)'!C5+'Subconsultant(9)'!C5 -> 0
B6: =C6+'Subconsultant(1)'!C6+'Subconsultant(2)'!C6+'Subconsultant(3)'!C6+'Subconsultant(4)'!C6+'Subconsultant(5)'!C6+'Subconsultant(6)'!C6+'Subconsultant(7)'!C6+'Subconsultant(8)'!C6+'Subconsultant(9)'!C6 -> 0
B7: =C7+'Subconsultant(1)'!C7+'Subconsultant(2)'!C7+'Subconsultant(3)'!C7+'Subconsultant(4)'!C7+'Subconsultant(5)'!C7+'Subconsultant(6)'!C7+'Subconsultant(7)'!C7+'Subconsultant(8)'!C7+'Subconsultant(9)'!C7 -> 0
B8: =C8+'Subconsultant(1)'!C8+'Subconsultant(2)'!C8+'Subconsultant(3)'!C8+'Subconsultant(4)'!C8+'Subconsultant(5)'!C8+'Subconsultant(6)'!C8+'Subconsultant(7)'!C8+'Subconsultant(8)'!C8+'Subconsultant(9)'!C8 -> 0
B9: =C9+'Subconsultant(1)'!C9+'Subconsultant(2)'!C9+'Subconsultant(3)'!C9+'Subconsultant(4)'!C9+'Subconsultant(5)'!C9+'Subconsultant(6)'!C9+'Subconsultant(7)'!C9+'Subconsultant(8)'!C9+'Subconsultant(9)'!C9 -> 0
B10: =C10+'Subconsultant(1)'!C10+'Subconsultant(2)'!C10+'Subconsultant(3)'!C10+'Subconsultant(4)'!C10+'Subconsultant(5)'!C10+'Subconsultant(6)'!C10+'Subconsultant(7)'!C10+'Subconsultant(8)'!C10+'Subconsultant(9)'!C10 -> 0
B11: =C11+'Subconsultant(1)'!C11+'Subconsultant(2)'!C11+'Subconsultant(3)'!C11+'Subconsultant(4)'!C11+'Subconsultant(5)'!C11+'Subconsultant(6)'!C11+'Subconsultant(7)'!C11+'Subconsultant(8)'!C11+'Subconsultant(9)'!C11 -> 0
B12: =C12+'Subconsultant(1)'!C12+'Subconsultant(2)'!C12+'Subconsultant(3)'!C12+'Subconsultant(4)'!C12+'Subconsultant(5)'!C12+'Subconsultant(6)'!C12+'Subconsultant(7)'!C12+'Subconsultant(8)'!C12+'Subconsultant(9)'!C12 -> 0
B13: =C13+'Subconsultant(1)'!C13+'Subconsultant(2)'!C13+'Subconsultant(3)'!C13+'Subconsultant(4)'!C13+'Subconsultant(5)'!C13+'Subconsultant(6)'!C13+'Subconsultant(7)'!C13+'Subconsultant(8)'!C13+'Subconsultant(9)'!C13 -> 0
B14: =C14+'Subconsultant(1)'!C14+'Subconsultant(2)'!C14+'Subconsultant(3)'!C14+'Subconsultant(4)'!C14+'Subconsultant(5)'!C14+'Subconsultant(6)'!C14+'Subconsultant(7)'!C14+'Subconsultant(8)'!C14+'Subconsultant(9)'!C14 -> 0
... B40: =C40+'Subconsultant(1)'!C40+'Subconsultant(2)'!C40+'Subconsultant(3)'!C40+'Subconsultant(4)'!C40+'Subconsultant(5)'!C40+'Subconsultant(6)'!C40+'Subconsultant(7)'!C40+'Subconsultant(8)'!C40+'Subconsultant(9)'!C40 -> 0
A41: TOTAL | B41: =SUM(B3:B40) -> 0 | C41: =SUM(C3:C40) -> 0

Sheet Subconsultant(1)
A1: Subconsultant: | B1: enter firm name
A2: Job Title ASCE/NICET Grade | B2: Total Hours | C2: Total Hours
A3: =PRIME!A3 -> 0 | B3: =PRIME!B3 -> 0
A4: =PRIME!A4 -> 0 | B4: =PRIME!B4 -> 0
A5: =PRIME!A5 -> 0 | B5: =PRIME!B5 -> 0
A6: =PRIME!A6 -> 0 | B6: =PRIME!B6 -> 0
A7: =PRIME!A7 -> 0 | B7: =PRIME!B7 -> 0
A8: =PRIME!A8 -> 0 | B8: =PRIME!B8 -> 0
A9: =PRIME!A9 -> 0 | B9: =PRIME!B9 -> 0
A10: =PRIME!A10 -> 0 | B10: =PRIME!B10 -> 0
A11: =PRIME!A11 -> 0 | B11: =PRIME!B11 -> 0
A12: =PRIME!A12 -> 0 | B12: =PRIME!B12 -> 0
A13: =PRIME!A13 -> 0 | B13: =PRIME!B13 -> 0
A14: =PRIME!A14 -> 0 | B14: =PRIME!B14 -> 0
... A40: =PRIME!A40 -> 0 | B40: =PRIME!B40 -> 0
A41: TOTAL | B41: =SUM(B3:B40) -> 0 | C41: =SUM(C3:C40) -> 0

Sheet Subconsultant(2)
A1: Subconsultant: | B1: enter firm name
A2: Job Title ASCE/NICET Grade | B2: Total Hours | C2: Total Hours
A3: =PRIME!A3 -> 0 | B3: =PRIME!B3 -> 0
A4: =PRIME!A4 -> 0 | B4: =PRIME!B4 -> 0
A5: =PRIME!A5 -> 0 | B5: =PRIME!B5 -> 0
A6: =PRIME!A6 -> 0 | B6: =PRIME!B6 -> 0
A7: =PRIME!A7 -> 0 | B7: =PRIME!B7 -> 0
A8: =PRIME!A8 -> 0 | B8: =PRIME!B8 -> 0
A9: =PRIME!A9 -> 0 | B9: =PRIME!B9 -> 0
A10: =PRIME!A10 -> 0 | B10: =PRIME!B10 -> 0
A11: =PRIME!A11 -> 0 | B11: =PRIME!B11 -> 0
A12: =PRIME!A12 -> 0 | B12: =PRIME!B12 -> 0
A13: =PRIME!A13 -> 0 | B13: =PRIME!B13 -> 0
A14: =PRIME!A14 -> 0 | B14: =PRIME!B14 -> 0
... A40: =PRIME!A40 -> 0 | B40: =PRIME!B40 -> 0
A41: TOTAL | B41: =SUM(B3:B40) -> 0 | C41: =SUM(C3:C40) -> 0

Sheet Subconsultant(3)
A1: Subconsultant: | B1: enter firm name
A2: Job Title ASCE/NICET Grade | B2: Total Hours | C2: Total Hours
A3: =PRIME!A3 -> 0 | B3: =PRIME!B3 -> 0
A4: =PRIME!A4 -> 0 | B4: =PRIME!B4 -> 0
A5: =PRIME!A5 -> 0 | B5: =PRIME!B5 -> 0
A6: =PRIME!A6 -> 0 | B6: =PRIME!B6 -> 0
A7: =PRIME!A7 -> 0 | B7: =PRIME!B7 -> 0
A8: =PRIME!A8 -> 0 | B8: =PRIME!B8 -> 0
A9: =PRIME!A9 -> 0 | B9: =PRIME!B9 -> 0
A10: =PRIME!A10 -> 0 | B10: =PRIME!B10 -> 0
A11: =PRIME!A11 -> 0 | B11: =PRIME!B11 -> 0
A12: =PRIME!A12 -> 0 | B12: =PRIME!B12 -> 0
A13: =PRIME!A13 -> 0 | B13: =PRIME!B13 -> 0
A14: =PRIME!A14 -> 0 | B14: =PRIME!B14 -> 0
... A40: =PRIME!A40 -> 0 | B40: =PRIME!B40 -> 0
A41: TOTAL | B41: =SUM(B3:B40) -> 0 | C41: =SUM(C3:C40) -> 0

Sheet Subconsultant(4)
A1: Subconsultant: | B1: enter firm name
A2: Job Title ASCE/NICET Grade | B2: Total Hours | C2: Total Hours
A3: =PRIME!A3 -> 0 | B3: =PRIME!B3 -> 0
A4: =PRIME!A4 -> 0 | B4: =PRIME!B4 -> 0
A5: =PRIME!A5 -> 0 | B5: =PRIME!B5 -> 0
A6: =PRIME!A6 -> 0 | B6: =PRIME!B6 -> 0
A7: =PRIME!A7 -> 0 | B7: =PRIME!B7 -> 0
A8: =PRIME!A8 -> 0 | B8: =PRIME!B8 -> 0
A9: =PRIME!A9 -> 0 | B9: =PRIME!B9 -> 0
A10: =PRIME!A10 -> 0 | B10: =PRIME!B10 -> 0
A11: =PRIME!A11 -> 0 | B11: =PRIME!B11 -> 0
A12: =PRIME!A12 -> 0 | B12: =PRIME!B12 -> 0
A13: =PRIME!A13 -> 0 | B13: =PRIME!B13 -> 0
A14: =PRIME!A14 -> 0 | B14: =PRIME!B14 -> 0
... A40: =PRIME!A40 -> 0 | B40: =PRIME!B40 -> 0
A41: TOTAL | B41: =SUM(B3:B40) -> 0 | C41: =SUM(C3:C40) -> 0

Sheet Subconsultant(5)
A1: Subconsultant: | B1: enter firm name
A2: Job Title ASCE/NICET Grade | B2: Total Hours | C2: Total Hours
A3: =PRIME!A3 -> 0 | B3: =PRIME!B3 -> 0
A4: =PRIME!A4 -> 0 | B4: =PRIME!B4 -> 0
A5: =PRIME!A5 -> 0 | B5: =PRIME!B5 -> 0
A6: =PRIME!A6 -> 0 | B6: =PRIME!B6 -> 0
A7: =PRIME!A7 -> 0 | B7: =PRIME!B7 -> 0
A8: =PRIME!A8 -> 0 | B8: =PRIME!B8 -> 0
A9: =PRIME!A9 -> 0 | B9: =PRIME!B9 -> 0
A10: =PRIME!A10 -> 0 | B10: =PRIME!B10 -> 0
A11: =PRIME!A11 -> 0 | B11: =PRIME!B11 -> 0
A12: =PRIME!A12 -> 0 | B12: =PRIME!B12 -> 0
A13: =PRIME!A13 -> 0 | B13: =PRIME!B13 -> 0
A14: =PRIME!A14 -> 0 | B14: =PRIME!B14 -> 0
... A40: =PRIME!A40 -> 0 | B40: =PRIME!B40 -> 0
A41: TOTAL | B41: =SUM(B3:B40) -> 0 | C41: =SUM(C3:C40) -> 0

Sheet Subconsultant(6)
A1: Subconsultant: | B1: enter firm name
A2: Job Title ASCE/NICET Grade | B2: Total Hours | C2: Total Hours
A3: =PRIME!A3 -> 0 | B3: =PRIME!B3 -> 0
A4: =PRIME!A4 -> 0 | B4: =PRIME!B4 -> 0
A5: =PRIME!A5 -> 0 | B5: =PRIME!B5 -> 0
A6: =PRIME!A6 -> 0 | B6: =PRIME!B6 -> 0
A7: =PRIME!A7 -> 0 | B7: =PRIME!B7 -> 0
A8: =PRIME!A8 -> 0 | B8: =PRIME!B8 -> 0
A9: =PRIME!A9 -> 0 | B9: =PRIME!B9 -> 0
A10: =PRIME!A10 -> 0 | B10: =PRIME!B10 -> 0
A11: =PRIME!A11 -> 0 | B11: =PRIME!B11 -> 0
A12: =PRIME!A12 -> 0 | B12: =PRIME!B12 -> 0
A13: =PRIME!A13 -> 0 | B13: =PRIME!B13 -> 0
A14: =PRIME!A14 -> 0 | B14: =PRIME!B14 -> 0
... A40: =PRIME!A40 -> 0 | B40: =PRIME!B40 -> 0
A41: TOTAL | B41: =SUM(B3:B40) -> 0 | C41: =SUM(C3:C40) -> 0

Sheet Subconsultant(7)
A1: Subconsultant: | B1: enter firm name
A2: Job Title ASCE/NICET Grade | B2: Total Hours | C2: Total Hours
A3: =PRIME!A3 -> 0 | B3: =PRIME!B3 -> 0
A4: =PRIME!A4 -> 0 | B4: =PRIME!B4 -> 0
A5: =PRIME!A5 -> 0 | B5: =PRIME!B5 -> 0
A6: =PRIME!A6 -> 0 | B6: =PRIME!B6 -> 0
A7: =PRIME!A7 -> 0 | B7: =PRIME!B7 -> 0
A8: =PRIME!A8 -> 0 | B8: =PRIME!B8 -> 0
A9: =PRIME!A9 -> 0 | B9: =PRIME!B9 -> 0
A10: =PRIME!A10 -> 0 | B10: =PRIME!B10 -> 0
A11: =PRIME!A11 -> 0 | B11: =PRIME!B11 -> 0
A12: =PRIME!A12 -> 0 | B12: =PRIME!B12 -> 0
A13: =PRIME!A13 -> 0 | B13: =PRIME!B13 -> 0
A14: =PRIME!A14 -> 0 | B14: =PRIME!B14 -> 0
... A40: =PRIME!A40 -> 0 | B40: =PRIME!B40 -> 0
A41: TOTAL | B41: =SUM(B3:B40) -> 0 | C41: =SUM(C3:C40) -> 0

Sheet Subconsultant(8)
A1: Subconsultant: | B1: enter firm name
A2: Job Title ASCE/NICET Grade | B2: Total Hours | C2: Total Hours
A3: =PRIME!A3 -> 0 | B3: =PRIME!B3 -> 0
A4: =PRIME!A4 -> 0 | B4: =PRIME!B4 -> 0
A5: =PRIME!A5 -> 0 | B5: =PRIME!B5 -> 0
A6: =PRIME!A6 -> 0 | B6: =PRIME!B6 -> 0
A7: =PRIME!A7 -> 0 | B7: =PRIME!B7 -> 0
A8: =PRIME!A8 -> 0 | B8: =PRIME!B8 -> 0
A9: =PRIME!A9 -> 0 | B9: =PRIME!B9 -> 0
A10: =PRIME!A10 -> 0 | B10: =PRIME!B10 -> 0
A11: =PRIME!A11 -> 0 | B11: =PRIME!B11 -> 0
A12: =PRIME!A12 -> 0 | B12: =PRIME!B12 -> 0
A13: =PRIME!A13 -> 0 | B13: =PRIME!B13 -> 0
A14: =PRIME!A14 -> 0 | B14: =PRIME!B14 -> 0
... A40: =PRIME!A40 -> 0 | B40: =PRIME!B40 -> 0
A41: TOTAL | B41: =SUM(B3:B40) -> 0 | C41: =SUM(C3:C40) -> 0

Sheet Subconsultant(9)
A1: Subconsultant: | B1: enter firm name
A2: Job Title ASCE/NICET Grade | B2: Total Hours | C2: Total Hours
A3: =PRIME!A3 -> 0 | B3: =PRIME!B3 -> 0
A4: =PRIME!A4 -> 0 | B4: =PRIME!B4 -> 0
A5: =PRIME!A5 -> 0 | B5: =PRIME!B5 -> 0
A6: =PRIME!A6 -> 0 | B6: =PRIME!B6 -> 0
A7: =PRIME!A7 -> 0 | B7: =PRIME!B7 -> 0
A8: =PRIME!A8 -> 0 | B8: =PRIME!B8 -> 0
A9: =PRIME!A9 -> 0 | B9: =PRIME!B9 -> 0
A10: =PRIME!A10 -> 0 | B10: =PRIME!B10 -> 0
A11: =PRIME!A11 -> 0 | B11: =PRIME!B11 -> 0
A12: =PRIME!A12 -> 0 | B12: =PRIME!B12 -> 0
A13: =PRIME!A13 -> 0 | B13: =PRIME!B13 -> 0
A14: =PRIME!A14 -> 0 | B14: =PRIME!B14 -> 0
... A40: =PRIME!A40 -> 0 | B40: =PRIME!B40 -> 0
A41: TOTAL | B41: =SUM(B3:B40) -> 0 | C41: =SUM(C3:C40) -> 0
