Workbook

Sheet Instructions
A1: JOB TITLES AND HOURS PROPOSED FORM – INSTRUCTIONS
A3: This workbook contains a Summary worksheet and ten Consultant worksheets. Consultant1 is for the Prime Consultant; Consultant2 through Consultant10 are for Subconsultants. Complete only the Consultant worksheets applicable to the proposed team.
A6: 1. Completing the Form
A7: • Enter information only in the designated blue input cells. Formula cells populate automatically and should not be altered.
A8: • On Consultant1, enter the Prime Consultant name in the top blue row.
A9: • On Consultant1, list each proposed Job Title/ASCE/NICET Grade in Column A and enter the Prime Consultant’s hours in Column C.
A10: • Total Hours in Column B are calculated automatically across the Prime Consultant and all Subconsultants.
A11: • On Consultant2 through Consultant10, enter the applicable Subconsultant name in the top blue row and enter that firm’s hours in Column C.
A12: • Job Titles/Grades and Total Hours on Consultant2 through Consultant10 populate automatically from Consultant1. All proposed titles must therefore be listed on Consultant1.
A13: • Do not enter salary or cost information in this workbook.
A15: 2. Review Before Submission
A16: • Review the Summary worksheet and confirm that the hours shown for each Consultant are correct.
A17: • Leave unused Consultant worksheets blank.

Sheet Summary
A1: Consultant Name | B1: Hours per Consultant
A2: =Consultant1!A1 -> Prime Consultant: | B2: =IF(OR(Consultant1!C34="",Consultant1!C34=0),"",Consultant1!C34)
A3: =Consultant2!A1 -> Subconsultant: | B3: =IF(OR(Consultant2!C34="",Consultant2!C34=0),"",Consultant2!C34)
A4: =Consultant3!A1 -> Subconsultant: | B4: =IF(OR(Consultant3!C34="",Consultant3!C34=0),"",Consultant3!C34)
A5: =Consultant4!A1 -> Subconsultant: | B5: =IF(OR(Consultant4!C34="",Consultant4!C34=0),"",Consultant4!C34)
A6: =Consultant5!A1 -> Subconsultant: | B6: =IF(OR(Consultant5!C34="",Consultant5!C34=0),"",Consultant5!C34)
A7: =Consultant6!A1 -> Subconsultant: | B7: =IF(OR(Consultant6!C34="",Consultant6!C34=0),"",Consultant6!C34)
A8: =Consultant7!A1 -> Subconsultant: | B8: =IF(OR(Consultant7!C34="",Consultant7!C34=0),"",Consultant7!C34)
A9: =Consultant8!A1 -> Subconsultant: | B9: =IF(OR(Consultant8!C34="",Consultant8!C34=0),"",Consultant8!C34)
A10: =Consultant9!A1 -> Subconsultant: | B10: =IF(OR(Consultant9!C34="",Consultant9!C34=0),"",Consultant9!C34)
A11: =Consultant10!A1 -> Subconsultant: | B11: =IF(OR(Consultant10!C34="",Consultant10!C34=0),"",Consultant10!C34)
A22: Total | B22: =IF(COUNT(B2:B11)=0,"",SUM(B2:B11))

Sheet Consultant1
A1: Prime Consultant:
A2: Job Title ASCE/NICET Grade | B2: Total Hours | C2: Hours This Firm
B3: =IF(SUM(C3,Consultant2!C3,Consultant3!C3,Consultant4!C3,Consultant5!C3,Consultant6!C3,Consultant7!C3,Consultant8!C3,Consultant9!C3,Consultant10!C3)=0,"",SUM(C3,Consultant2!C3,Consultant3!C3,Consultant4!C3,Consultant5!C3,Consultant6!C3,Consultant7!C3,Consultant8!C3,Consultant9!C3,Consultant10!C3))
B4: =IF(SUM(C4,Consultant2!C4,Consultant3!C4,Consultant4!C4,Consultant5!C4,Consultant6!C4,Consultant7!C4,Consultant8!C4,Consultant9!C4,Consultant10!C4)=0,"",SUM(C4,Consultant2!C4,Consultant3!C4,Consultant4!C4,Consultant5!C4,Consultant6!C4,Consultant7!C4,Consultant8!C4,Consultant9!C4,Consultant10!C4))
B5: =IF(SUM(C5,Consultant2!C5,Consultant3!C5,Consultant4!C5,Consultant5!C5,Consultant6!C5,Consultant7!C5,Consultant8!C5,Consultant9!C5,Consultant10!C5)=0,"",SUM(C5,Consultant2!C5,Consultant3!C5,Consultant4!C5,Consultant5!C5,Consultant6!C5,Consultant7!C5,Consultant8!C5,Consultant9!C5,Consultant10!C5))
B6: =IF(SUM(C6,Consultant2!C6,Consultant3!C6,Consultant4!C6,Consultant5!C6,Consultant6!C6,Consultant7!C6,Consultant8!C6,Consultant9!C6,Consultant10!C6)=0,"",SUM(C6,Consultant2!C6,Consultant3!C6,Consultant4!C6,Consultant5!C6,Consultant6!C6,Consultant7!C6,Consultant8!C6,Consultant9!C6,Consultant10!C6))
B7: =IF(SUM(C7,Consultant2!C7,Consultant3!C7,Consultant4!C7,Consultant5!C7,Consultant6!C7,Consultant7!C7,Consultant8!C7,Consultant9!C7,Consultant10!C7)=0,"",SUM(C7,Consultant2!C7,Consultant3!C7,Consultant4!C7,Consultant5!C7,Consultant6!C7,Consultant7!C7,Consultant8!C7,Consultant9!C7,Consultant10!C7))
B8: =IF(SUM(C8,Consultant2!C8,Consultant3!C8,Consultant4!C8,Consultant5!C8,Consultant6!C8,Consultant7!C8,Consultant8!C8,Consultant9!C8,Consultant10!C8)=0,"",SUM(C8,Consultant2!C8,Consultant3!C8,Consultant4!C8,Consultant5!C8,Consultant6!C8,Consultant7!C8,Consultant8!C8,Consultant9!C8,Consultant10!C8))
B9: =IF(SUM(C9,Consultant2!C9,Consultant3!C9,Consultant4!C9,Consultant5!C9,Consultant6!C9,Consultant7!C9,Consultant8!C9,Consultant9!C9,Consultant10!C9)=0,"",SUM(C9,Consultant2!C9,Consultant3!C9,Consultant4!C9,Consultant5!C9,Consultant6!C9,Consultant7!C9,Consultant8!C9,Consultant9!C9,Consultant10!C9))
B10: =IF(SUM(C10,Consultant2!C10,Consultant3!C10,Consultant4!C10,Consultant5!C10,Consultant6!C10,Consultant7!C10,Consultant8!C10,Consultant9!C10,Consultant10!C10)=0,"",SUM(C10,Consultant2!C10,Consultant3!C10,Consultant4!C10,Consultant5!C10,Consultant6!C10,Consultant7!C10,Consultant8!C10,Consultant9!C10,Consultant10!C10))
B11: =IF(SUM(C11,Consultant2!C11,Consultant3!C11,Consultant4!C11,Consultant5!C11,Consultant6!C11,Consultant7!C11,Consultant8!C11,Consultant9!C11,Consultant10!C11)=0,"",SUM(C11,Consultant2!C11,Consultant3!C11,Consultant4!C11,Consultant5!C11,Consultant6!C11,Consultant7!C11,Consultant8!C11,Consultant9!C11,Consultant10!C11))
B12: =IF(SUM(C12,Consultant2!C12,Consultant3!C12,Consultant4!C12,Consultant5!C12,Consultant6!C12,Consultant7!C12,Consultant8!C12,Consultant9!C12,Consultant10!C12)=0,"",SUM(C12,Consultant2!C12,Consultant3!C12,Consultant4!C12,Consultant5!C12,Consultant6!C12,Consultant7!C12,Consultant8!C12,Consultant9!C12,Consultant10!C12))
B13: =IF(SUM(C13,Consultant2!C13,Consultant3!C13,Consultant4!C13,Consultant5!C13,Consultant6!C13,Consultant7!C13,Consultant8!C13,Consultant9!C13,Consultant10!C13)=0,"",SUM(C13,Consultant2!C13,Consultant3!C13,Consultant4!C13,Consultant5!C13,Consultant6!C13,Consultant7!C13,Consultant8!C13,Consultant9!C13,Consultant10!C13))
B14: =IF(SUM(C14,Consultant2!C14,Consultant3!C14,Consultant4!C14,Consultant5!C14,Consultant6!C14,Consultant7!C14,Consultant8!C14,Consultant9!C14,Consultant10!C14)=0,"",SUM(C14,Consultant2!C14,Consultant3!C14,Consultant4!C14,Consultant5!C14,Consultant6!C14,Consultant7!C14,Consultant8!C14,Consultant9!C14,Consultant10!C14))
... B33: =IF(SUM(C33,Consultant2!C33,Consultant3!C33,Consultant4!C33,Consultant5!C33,Consultant6!C33,Consultant7!C33,Consultant8!C33,Consultant9!C33,Consultant10!C33)=0,"",SUM(C33,Consultant2!C33,Consultant3!C33,Consultant4!C33,Consultant5!C33,Consultant6!C33,Consultant7!C33,Consultant8!C33,Consultant9!C33,Consultant10!C33))
A34: TOTAL | B34: =IF(COUNT(B3:B33)=0,"",SUM(B3:B33)) | C34: =IF(COUNT(C3:C33)=0,"",SUM(C3:C33))

Sheet Consultant2
A1: Subconsultant:
A2: Job Title ASCE/NICET Grade | B2: =Consultant1!B2 -> Total Hours | C2: =Consultant1!C2 -> Hours This Firm
A3: =IF(Consultant1!A3="","",Consultant1!A3) | B3: =IF(Consultant1!B3="","",Consultant1!B3)
A4: =IF(Consultant1!A4="","",Consultant1!A4) | B4: =IF(Consultant1!B4="","",Consultant1!B4)
A5: =IF(Consultant1!A5="","",Consultant1!A5) | B5: =IF(Consultant1!B5="","",Consultant1!B5)
A6: =IF(Consultant1!A6="","",Consultant1!A6) | B6: =IF(Consultant1!B6="","",Consultant1!B6)
A7: =IF(Consultant1!A7="","",Consultant1!A7) | B7: =IF(Consultant1!B7="","",Consultant1!B7)
A8: =IF(Consultant1!A8="","",Consultant1!A8) | B8: =IF(Consultant1!B8="","",Consultant1!B8)
A9: =IF(Consultant1!A9="","",Consultant1!A9) | B9: =IF(Consultant1!B9="","",Consultant1!B9)
A10: =IF(Consultant1!A10="","",Consultant1!A10) | B10: =IF(Consultant1!B10="","",Consultant1!B10)
A11: =IF(Consultant1!A11="","",Consultant1!A11) | B11: =IF(Consultant1!B11="","",Consultant1!B11)
A12: =IF(Consultant1!A12="","",Consultant1!A12) | B12: =IF(Consultant1!B12="","",Consultant1!B12)
A13: =IF(Consultant1!A13="","",Consultant1!A13) | B13: =IF(Consultant1!B13="","",Consultant1!B13)
A14: =IF(Consultant1!A14="","",Consultant1!A14) | B14: =IF(Consultant1!B14="","",Consultant1!B14)
... A33: =IF(Consultant1!A33="","",Consultant1!A33) | B33: =IF(Consultant1!B33="","",Consultant1!B33)
A34: TOTAL | B34: =IF(COUNT(B3:B33)=0,"",SUM(B3:B33)) | C34: =IF(COUNT(C3:C33)=0,"",SUM(C3:C33))

Sheet Consultant3
A1: Subconsultant:
A2: Job Title ASCE/NICET Grade | B2: =Consultant1!B2 -> Total Hours | C2: =Consultant1!C2 -> Hours This Firm
A3: =IF(Consultant1!A3="","",Consultant1!A3) | B3: =IF(Consultant1!B3="","",Consultant1!B3)
A4: =IF(Consultant1!A4="","",Consultant1!A4) | B4: =IF(Consultant1!B4="","",Consultant1!B4)
A5: =IF(Consultant1!A5="","",Consultant1!A5) | B5: =IF(Consultant1!B5="","",Consultant1!B5)
A6: =IF(Consultant1!A6="","",Consultant1!A6) | B6: =IF(Consultant1!B6="","",Consultant1!B6)
A7: =IF(Consultant1!A7="","",Consultant1!A7) | B7: =IF(Consultant1!B7="","",Consultant1!B7)
A8: =IF(Consultant1!A8="","",Consultant1!A8) | B8: =IF(Consultant1!B8="","",Consultant1!B8)
A9: =IF(Consultant1!A9="","",Consultant1!A9) | B9: =IF(Consultant1!B9="","",Consultant1!B9)
A10: =IF(Consultant1!A10="","",Consultant1!A10) | B10: =IF(Consultant1!B10="","",Consultant1!B10)
A11: =IF(Consultant1!A11="","",Consultant1!A11) | B11: =IF(Consultant1!B11="","",Consultant1!B11)
A12: =IF(Consultant1!A12="","",Consultant1!A12) | B12: =IF(Consultant1!B12="","",Consultant1!B12)
A13: =IF(Consultant1!A13="","",Consultant1!A13) | B13: =IF(Consultant1!B13="","",Consultant1!B13)
A14: =IF(Consultant1!A14="","",Consultant1!A14) | B14: =IF(Consultant1!B14="","",Consultant1!B14)
... A33: =IF(Consultant1!A33="","",Consultant1!A33) | B33: =IF(Consultant1!B33="","",Consultant1!B33)
A34: TOTAL | B34: =IF(COUNT(B3:B33)=0,"",SUM(B3:B33)) | C34: =IF(COUNT(C3:C33)=0,"",SUM(C3:C33))

Sheet Consultant4
A1: Subconsultant:
A2: Job Title ASCE/NICET Grade | B2: =Consultant1!B2 -> Total Hours | C2: =Consultant1!C2 -> Hours This Firm
A3: =IF(Consultant1!A3="","",Consultant1!A3) | B3: =IF(Consultant1!B3="","",Consultant1!B3)
A4: =IF(Consultant1!A4="","",Consultant1!A4) | B4: =IF(Consultant1!B4="","",Consultant1!B4)
A5: =IF(Consultant1!A5="","",Consultant1!A5) | B5: =IF(Consultant1!B5="","",Consultant1!B5)
A6: =IF(Consultant1!A6="","",Consultant1!A6) | B6: =IF(Consultant1!B6="","",Consultant1!B6)
A7: =IF(Consultant1!A7="","",Consultant1!A7) | B7: =IF(Consultant1!B7="","",Consultant1!B7)
A8: =IF(Consultant1!A8="","",Consultant1!A8) | B8: =IF(Consultant1!B8="","",Consultant1!B8)
A9: =IF(Consultant1!A9="","",Consultant1!A9) | B9: =IF(Consultant1!B9="","",Consultant1!B9)
A10: =IF(Consultant1!A10="","",Consultant1!A10) | B10: =IF(Consultant1!B10="","",Consultant1!B10)
A11: =IF(Consultant1!A11="","",Consultant1!A11) | B11: =IF(Consultant1!B11="","",Consultant1!B11)
A12: =IF(Consultant1!A12="","",Consultant1!A12) | B12: =IF(Consultant1!B12="","",Consultant1!B12)
A13: =IF(Consultant1!A13="","",Consultant1!A13) | B13: =IF(Consultant1!B13="","",Consultant1!B13)
A14: =IF(Consultant1!A14="","",Consultant1!A14) | B14: =IF(Consultant1!B14="","",Consultant1!B14)
... A33: =IF(Consultant1!A33="","",Consultant1!A33) | B33: =IF(Consultant1!B33="","",Consultant1!B33)
A34: TOTAL | B34: =IF(COUNT(B3:B33)=0,"",SUM(B3:B33)) | C34: =IF(COUNT(C3:C33)=0,"",SUM(C3:C33))

Sheet Consultant5
A1: Subconsultant:
A2: Job Title ASCE/NICET Grade | B2: =Consultant1!B2 -> Total Hours | C2: =Consultant1!C2 -> Hours This Firm
A3: =IF(Consultant1!A3="","",Consultant1!A3) | B3: =IF(Consultant1!B3="","",Consultant1!B3)
A4: =IF(Consultant1!A4="","",Consultant1!A4) | B4: =IF(Consultant1!B4="","",Consultant1!B4)
A5: =IF(Consultant1!A5="","",Consultant1!A5) | B5: =IF(Consultant1!B5="","",Consultant1!B5)
A6: =IF(Consultant1!A6="","",Consultant1!A6) | B6: =IF(Consultant1!B6="","",Consultant1!B6)
A7: =IF(Consultant1!A7="","",Consultant1!A7) | B7: =IF(Consultant1!B7="","",Consultant1!B7)
A8: =IF(Consultant1!A8="","",Consultant1!A8) | B8: =IF(Consultant1!B8="","",Consultant1!B8)
A9: =IF(Consultant1!A9="","",Consultant1!A9) | B9: =IF(Consultant1!B9="","",Consultant1!B9)
A10: =IF(Consultant1!A10="","",Consultant1!A10) | B10: =IF(Consultant1!B10="","",Consultant1!B10)
A11: =IF(Consultant1!A11="","",Consultant1!A11) | B11: =IF(Consultant1!B11="","",Consultant1!B11)
A12: =IF(Consultant1!A12="","",Consultant1!A12) | B12: =IF(Consultant1!B12="","",Consultant1!B12)
A13: =IF(Consultant1!A13="","",Consultant1!A13) | B13: =IF(Consultant1!B13="","",Consultant1!B13)
A14: =IF(Consultant1!A14="","",Consultant1!A14) | B14: =IF(Consultant1!B14="","",Consultant1!B14)
... A33: =IF(Consultant1!A33="","",Consultant1!A33) | B33: =IF(Consultant1!B33="","",Consultant1!B33)
A34: TOTAL | B34: =IF(COUNT(B3:B33)=0,"",SUM(B3:B33)) | C34: =IF(COUNT(C3:C33)=0,"",SUM(C3:C33))

Sheet Consultant6
A1: Subconsultant:
A2: Job Title ASCE/NICET Grade | B2: =Consultant1!B2 -> Total Hours | C2: =Consultant1!C2 -> Hours This Firm
A3: =IF(Consultant1!A3="","",Consultant1!A3) | B3: =IF(Consultant1!B3="","",Consultant1!B3)
A4: =IF(Consultant1!A4="","",Consultant1!A4) | B4: =IF(Consultant1!B4="","",Consultant1!B4)
A5: =IF(Consultant1!A5="","",Consultant1!A5) | B5: =IF(Consultant1!B5="","",Consultant1!B5)
A6: =IF(Consultant1!A6="","",Consultant1!A6) | B6: =IF(Consultant1!B6="","",Consultant1!B6)
A7: =IF(Consultant1!A7="","",Consultant1!A7) | B7: =IF(Consultant1!B7="","",Consultant1!B7)
A8: =IF(Consultant1!A8="","",Consultant1!A8) | B8: =IF(Consultant1!B8="","",Consultant1!B8)
A9: =IF(Consultant1!A9="","",Consultant1!A9) | B9: =IF(Consultant1!B9="","",Consultant1!B9)
A10: =IF(Consultant1!A10="","",Consultant1!A10) | B10: =IF(Consultant1!B10="","",Consultant1!B10)
A11: =IF(Consultant1!A11="","",Consultant1!A11) | B11: =IF(Consultant1!B11="","",Consultant1!B11)
A12: =IF(Consultant1!A12="","",Consultant1!A12) | B12: =IF(Consultant1!B12="","",Consultant1!B12)
A13: =IF(Consultant1!A13="","",Consultant1!A13) | B13: =IF(Consultant1!B13="","",Consultant1!B13)
A14: =IF(Consultant1!A14="","",Consultant1!A14) | B14: =IF(Consultant1!B14="","",Consultant1!B14)
... A33: =IF(Consultant1!A33="","",Consultant1!A33) | B33: =IF(Consultant1!B33="","",Consultant1!B33)
A34: TOTAL | B34: =IF(COUNT(B3:B33)=0,"",SUM(B3:B33)) | C34: =IF(COUNT(C3:C33)=0,"",SUM(C3:C33))

Sheet Consultant7
A1: Subconsultant:
A2: Job Title ASCE/NICET Grade | B2: =Consultant1!B2 -> Total Hours | C2: =Consultant1!C2 -> Hours This Firm
A3: =IF(Consultant1!A3="","",Consultant1!A3) | B3: =IF(Consultant1!B3="","",Consultant1!B3)
A4: =IF(Consultant1!A4="","",Consultant1!A4) | B4: =IF(Consultant1!B4="","",Consultant1!B4)
A5: =IF(Consultant1!A5="","",Consultant1!A5) | B5: =IF(Consultant1!B5="","",Consultant1!B5)
A6: =IF(Consultant1!A6="","",Consultant1!A6) | B6: =IF(Consultant1!B6="","",Consultant1!B6)
A7: =IF(Consultant1!A7="","",Consultant1!A7) | B7: =IF(Consultant1!B7="","",Consultant1!B7)
A8: =IF(Consultant1!A8="","",Consultant1!A8) | B8: =IF(Consultant1!B8="","",Consultant1!B8)
A9: =IF(Consultant1!A9="","",Consultant1!A9) | B9: =IF(Consultant1!B9="","",Consultant1!B9)
A10: =IF(Consultant1!A10="","",Consultant1!A10) | B10: =IF(Consultant1!B10="","",Consultant1!B10)
A11: =IF(Consultant1!A11="","",Consultant1!A11) | B11: =IF(Consultant1!B11="","",Consultant1!B11)
A12: =IF(Consultant1!A12="","",Consultant1!A12) | B12: =IF(Consultant1!B12="","",Consultant1!B12)
A13: =IF(Consultant1!A13="","",Consultant1!A13) | B13: =IF(Consultant1!B13="","",Consultant1!B13)
A14: =IF(Consultant1!A14="","",Consultant1!A14) | B14: =IF(Consultant1!B14="","",Consultant1!B14)
... A33: =IF(Consultant1!A33="","",Consultant1!A33) | B33: =IF(Consultant1!B33="","",Consultant1!B33)
A34: TOTAL | B34: =IF(COUNT(B3:B33)=0,"",SUM(B3:B33)) | C34: =IF(COUNT(C3:C33)=0,"",SUM(C3:C33))

Sheet Consultant8
A1: Subconsultant:
A2: Job Title ASCE/NICET Grade | B2: =Consultant1!B2 -> Total Hours | C2: =Consultant1!C2 -> Hours This Firm
A3: =IF(Consultant1!A3="","",Consultant1!A3) | B3: =IF(Consultant1!B3="","",Consultant1!B3)
A4: =IF(Consultant1!A4="","",Consultant1!A4) | B4: =IF(Consultant1!B4="","",Consultant1!B4)
A5: =IF(Consultant1!A5="","",Consultant1!A5) | B5: =IF(Consultant1!B5="","",Consultant1!B5)
A6: =IF(Consultant1!A6="","",Consultant1!A6) | B6: =IF(Consultant1!B6="","",Consultant1!B6)
A7: =IF(Consultant1!A7="","",Consultant1!A7) | B7: =IF(Consultant1!B7="","",Consultant1!B7)
A8: =IF(Consultant1!A8="","",Consultant1!A8) | B8: =IF(Consultant1!B8="","",Consultant1!B8)
A9: =IF(Consultant1!A9="","",Consultant1!A9) | B9: =IF(Consultant1!B9="","",Consultant1!B9)
A10: =IF(Consultant1!A10="","",Consultant1!A10) | B10: =IF(Consultant1!B10="","",Consultant1!B10)
A11: =IF(Consultant1!A11="","",Consultant1!A11) | B11: =IF(Consultant1!B11="","",Consultant1!B11)
A12: =IF(Consultant1!A12="","",Consultant1!A12) | B12: =IF(Consultant1!B12="","",Consultant1!B12)
A13: =IF(Consultant1!A13="","",Consultant1!A13) | B13: =IF(Consultant1!B13="","",Consultant1!B13)
A14: =IF(Consultant1!A14="","",Consultant1!A14) | B14: =IF(Consultant1!B14="","",Consultant1!B14)
... A33: =IF(Consultant1!A33="","",Consultant1!A33) | B33: =IF(Consultant1!B33="","",Consultant1!B33)
A34: TOTAL | B34: =IF(COUNT(B3:B33)=0,"",SUM(B3:B33)) | C34: =IF(COUNT(C3:C33)=0,"",SUM(C3:C33))

Sheet Consultant9
A1: Subconsultant:
A2: Job Title ASCE/NICET Grade | B2: =Consultant1!B2 -> Total Hours | C2: =Consultant1!C2 -> Hours This Firm
A3: =IF(Consultant1!A3="","",Consultant1!A3) | B3: =IF(Consultant1!B3="","",Consultant1!B3)
A4: =IF(Consultant1!A4="","",Consultant1!A4) | B4: =IF(Consultant1!B4="","",Consultant1!B4)
A5: =IF(Consultant1!A5="","",Consultant1!A5) | B5: =IF(Consultant1!B5="","",Consultant1!B5)
A6: =IF(Consultant1!A6="","",Consultant1!A6) | B6: =IF(Consultant1!B6="","",Consultant1!B6)
A7: =IF(Consultant1!A7="","",Consultant1!A7) | B7: =IF(Consultant1!B7="","",Consultant1!B7)
A8: =IF(Consultant1!A8="","",Consultant1!A8) | B8: =IF(Consultant1!B8="","",Consultant1!B8)
A9: =IF(Consultant1!A9="","",Consultant1!A9) | B9: =IF(Consultant1!B9="","",Consultant1!B9)
A10: =IF(Consultant1!A10="","",Consultant1!A10) | B10: =IF(Consultant1!B10="","",Consultant1!B10)
A11: =IF(Consultant1!A11="","",Consultant1!A11) | B11: =IF(Consultant1!B11="","",Consultant1!B11)
A12: =IF(Consultant1!A12="","",Consultant1!A12) | B12: =IF(Consultant1!B12="","",Consultant1!B12)
A13: =IF(Consultant1!A13="","",Consultant1!A13) | B13: =IF(Consultant1!B13="","",Consultant1!B13)
A14: =IF(Consultant1!A14="","",Consultant1!A14) | B14: =IF(Consultant1!B14="","",Consultant1!B14)
... A33: =IF(Consultant1!A33="","",Consultant1!A33) | B33: =IF(Consultant1!B33="","",Consultant1!B33)
A34: TOTAL | B34: =IF(COUNT(B3:B33)=0,"",SUM(B3:B33)) | C34: =IF(COUNT(C3:C33)=0,"",SUM(C3:C33))

Sheet Consultant10
A1: Subconsultant:
A2: Job Title ASCE/NICET Grade | B2: =Consultant1!B2 -> Total Hours | C2: =Consultant1!C2 -> Hours This Firm
A3: =IF(Consultant1!A3="","",Consultant1!A3) | B3: =IF(Consultant1!B3="","",Consultant1!B3)
A4: =IF(Consultant1!A4="","",Consultant1!A4) | B4: =IF(Consultant1!B4="","",Consultant1!B4)
A5: =IF(Consultant1!A5="","",Consultant1!A5) | B5: =IF(Consultant1!B5="","",Consultant1!B5)
A6: =IF(Consultant1!A6="","",Consultant1!A6) | B6: =IF(Consultant1!B6="","",Consultant1!B6)
A7: =IF(Consultant1!A7="","",Consultant1!A7) | B7: =IF(Consultant1!B7="","",Consultant1!B7)
A8: =IF(Consultant1!A8="","",Consultant1!A8) | B8: =IF(Consultant1!B8="","",Consultant1!B8)
A9: =IF(Consultant1!A9="","",Consultant1!A9) | B9: =IF(Consultant1!B9="","",Consultant1!B9)
A10: =IF(Consultant1!A10="","",Consultant1!A10) | B10: =IF(Consultant1!B10="","",Consultant1!B10)
A11: =IF(Consultant1!A11="","",Consultant1!A11) | B11: =IF(Consultant1!B11="","",Consultant1!B11)
A12: =IF(Consultant1!A12="","",Consultant1!A12) | B12: =IF(Consultant1!B12="","",Consultant1!B12)
A13: =IF(Consultant1!A13="","",Consultant1!A13) | B13: =IF(Consultant1!B13="","",Consultant1!B13)
A14: =IF(Consultant1!A14="","",Consultant1!A14) | B14: =IF(Consultant1!B14="","",Consultant1!B14)
... A33: =IF(Consultant1!A33="","",Consultant1!A33) | B33: =IF(Consultant1!B33="","",Consultant1!B33)
A34: TOTAL | B34: =IF(COUNT(B3:B33)=0,"",SUM(B3:B33)) | C34: =IF(COUNT(C3:C33)=0,"",SUM(C3:C33))
