Workbook

Sheet Proposal Budget Summary - Total
B3: Proposal Budget Summary
B4: Jobs Plus Employment Program RFx
B5: Proposer Name:
C7: Competition Pool:
B9: Proposal Budget Summary Total
C11: Total Proposal Contract Year 1 | H11: ='Year 1 - Proposed Budget'!J6 -> 0
C12: Total Proposal Contract Year 2 | H12: ='Year 2 - Proposed Budget '!J6 -> 0
C13: Total Proposal Contract Year 3 | H13: ='Year 3 - Proposed Budget'!J6 -> 0
C14: Total Start-up Budget | H14: ='Proposal Start-up Budget'!E49 -> 0
C15: Total Proposal Amount | H15: =SUM(H11:H13) -> 0

Sheet Year 1 - Proposed Budget
B1: Proposal Budget Summary (Year 1)
B2: Jobs Plus Employment Program RFx
B3: Proposer Name:
C4: Competition Pool:
B6: Total Proposed Budget (Line-Item 75% & Performance-Based 25%) | J6: =J8+J66 -> 0
C7: Line-Item | J7: Annual Budget
C8: Total Funding Request for Line-Item (75%) | J8: =J9+J64 -> 0
C9: Total Direct Costs | J9: =SUM(J10:J12) -> 0
C10: Total Personnel | J10: ='Year 1 - Personnel'!K49 -> 0
C11: Total Fringe | J11: ='Year 1 - Personnel'!K48 -> 0
C12: Other Than Personnel Services (OTPS) | J12: =J14+J30+J39+J51+J58+J64 -> 0
C14: Operations & Support | J14: =SUM(J15:J27) -> 0
C15: Office Supplies | J15: 0
C16: Facilities Repairs & Maintenance | J16: 0
C17: Safety and Health | J17: 0
C18: Staff Training | J18: 0
C19: Staff Transportation | J19: 0
C20: Recruitment and Advertising (Client) | J20: 0
C21: Real Estate Taxes | J21: 0
C22: Printing | J22: 0
C23: Postage | J23: 0
C24: Client Transportation | J24: 0
C25: Client Supplies & Activities | J25: 0
C26: Client Stipends | J26: 0
C27: Other (Specify) | J27: 0
C30: Utilities | J30: =SUM(J31:J36) -> 0
C31: Electric | J31: 0
C32: Water/Sewage | J32: 0
C33: Heating | J33: 0
C34: Mobile Phones | J34: 0
C35: Bundled Communication | J35: 0
C36: Other (Specify) | J36: 0
C39: Professional Fees | J39: =SUM(J40:J43) -> 0
C40: Accounting Costs | J40: 0
C41: Legal Cost | J41: 0
C42: Audit Expense | J42: 0
C43: Other (Specify) | J43: 0
C46: Rent | J46: =SUM(J47:J49) -> 0
C47: Site Location (Specify) | J47: 0
C48: Other (Specify) | J48: 0
...

Sheet Year 1 - Personnel
B1: Jobs Plus Employment Program
B3: Personnel Services (Year 1)
B4: Title | C4: Employee Name | D4: ID | E4: Type | F4: Salary | G4: Rate | H4: Hours | I4: FTE | J4: Annual | K4: Budget Amount
K5: 0
K6: 0
K7: 0
K8: 0
K9: 0
K10: 0
K11: 0
K12: 0
K13: 0
K14: 0
K15: 0
K16: 0
... K31: 0
B32: Personnel Services Subtotal | K32: =SUM(K5:K31) -> 0
B34: FICA | K34: 0
B35: Life Insurance | K35: 0
B36: Health Insurance | K36: 0
B37: Unemployment Insurance | K37: 0
B38: Disability | K38: 0
B39: Workers Compensation | K39: 0
B40: Retirement | K40: 0
B41: Other (Specify) | K41: 0
B42: Other (Specify) | K42: 0
B43: Other (Specify) | K43: 0
B44: Other (Specify) | K44: 0
B45: Other (Specify) | K45: 0
... B47: Other (Specify) | K47: 0
B48: Fringe Benefits | H48: Enter % Rate | J48: 0 | K48: =SUM(K34:K47)*J48 -> 0
B49: Personnel Services Total | K49: =SUM(K34:K48)+K32 -> 0

Sheet Year 2 - Proposed Budget 
B1: Proposal Budget Summary (Year 2)
B2: Jobs Plus Employment Program RFx
B3: Proposer Name:
C4: Competition Pool:
B6: Total Proposed Budget (Line Item 75% & Performance-Based 25%) | J6: =J8+J66 -> 0
C7: Line-Item | J7: Annual Budget
C8: Total Funding Request for the Line-Item (75%) | J8: =J9+J64 -> 0
C9: Total Direct Costs | J9: =SUM(J10:J12) -> 0
C10: Total Personnel | J10: ='Year 2 - Personnel '!K46 -> 0
C11: Total Fringe | J11: ='Year 2 - Personnel '!K45 -> 0
C12: Other Than Personnel Services (OTPS) | J12: =J14+J30+J39+J51+J58+J64 -> 0
C14: Operations & Support | J14: =SUM(J15:J27) -> 0
C15: Office Supplies | J15: 0
C16: Facilities Repairs & Maintenance | J16: 0
C17: Safety and Health | J17: 0
C18: Staff Training | J18: 0
C19: Staff Transportation | J19: 0
C20: Recruitment and Advertising (Client) | J20: 0
C21: Real Estate Taxes | J21: 0
C22: Printing | J22: 0
C23: Postage | J23: 0
C24: Client Transportation | J24: 0
C25: Client Supplies & Activities | J25: 0
C26: Client Stipends | J26: 0
C27: Other (Specify) | J27: 0
C30: Utilities | J30: =SUM(J31:J36) -> 0
C31: Electric | J31: 0
C32: Water/Sewage | J32: 0
C33: Heating | J33: 0
C34: Mobile Phones | J34: 0
C35: Bundled Communication | J35: 0
C36: Other (Specify) | J36: 0
C39: Professional Fees | J39: =SUM(J40:J43) -> 0
C40: Accounting Costs | J40: 0
C41: Legal Cost | J41: 0
C42: Audit Expense | J42: 0
C43: Other (Specify) | J43: 0
C46: Rent | J46: =SUM(J47:J49) -> 0
C47: Site Location (Specify) | J47: 0
C48: Other (Specify) | J48: 0
...

Sheet Year 2 - Personnel 
B1: Jobs Plus Employment Program
B3: Personnel Services (Year 2)
B4: Title | C4: Employee Name | D4: ID | E4: Type | F4: Rate | G4: Hours | H4: Salary | I4: FTE | J4: Annual | K4: Budget Amount
K5: 0
K6: 0
K7: 0
K8: 0
K9: 0
K10: 0
K11: 0
K12: 0
K13: 0
K14: 0
K15: 0
K16: 0
... K31: 0
B32: Personnel Services Subtotal | K32: =SUM(K5:K31) -> 0
B34: FICA | K34: 0
B35: Life Insurance | K35: 0
B36: Health Insurance | K36: 0
B37: Unemployment Insurance | K37: 0
B38: Disability | K38: 0
B39: Workers Compensation | K39: 0
B40: Retirement | K40: 0
B41: Other (Specify) | K41: 0
B42: Other (Specify) | K42: 0
B43: Other (Specify) | K43: 0
B44: Other (Specify) | K44: 0
B45: Other (Specify) | K45: =SUM(K34:K44)*J48 -> 0
B46: Other (Specify) | K46: =SUM(K34:K45)+K32 -> 0
B47: Other (Specify)
B48: Fringe Benefits | H48: Enter % Rate | J48: 0
B49: Personnel Services Total

Sheet Year 3 - Proposed Budget
B1: Proposal Budget Summary (Year 3)
B2: Jobs Plus Employment Program RFx
B3: Proposer Name:
C4: Competition Pool:
B6: Total Proposed Budget (Line-Item 75% & Performance-Based 25%) | J6: =J8+J66 -> 0
C7: Line-Item | J7: Annual Budget
C8: Total Funding Request for Line-Item (75%) | J8: =J9+J64 -> 0
C9: Total Direct Costs | J9: =SUM(J10:J12) -> 0
C10: Total Personnel | J10: ='Year 3 - Personnel '!K49 -> 0
C11: Total Fringe | J11: ='Year 3 - Personnel '!K48 -> 0
C12: Other Than Personnel Services (OTPS) | J12: =J14+J30+J39+J51+J58+J64 -> 0
C14: Operations & Support | J14: =SUM(J15:J27) -> 0
C15: Office Supplies | J15: 0
C16: Facilities Repairs & Maintenance | J16: 0
C17: Safety and Health | J17: 0
C18: Staff Training | J18: 0
C19: Staff Transportation | J19: 0
C20: Recruitment and Advertising (Client) | J20: 0
C21: Real Estate Taxes | J21: 0
C22: Printing | J22: 0
C23: Postage | J23: 0
C24: Client Transportation | J24: 0
C25: Client Supplies & Activities | J25: 0
C26: Client Stipends | J26: 0
C27: Other (Specify) | J27: 0
C30: Utilities | J30: =SUM(J31:J36) -> 0
C31: Electric | J31: 0
C32: Water/Sewage | J32: 0
C33: Heating | J33: 0
C34: Mobile Phones | J34: 0
C35: Bundled Communication | J35: 0
C36: Other (Specify) | J36: 0
C39: Professional Fees | J39: =SUM(J40:J43) -> 0
C40: Accounting Costs | J40: 0
C41: Legal Cost | J41: 0
C42: Audit Expense | J42: 0
C43: Other (Specify) | J43: 0
C46: Rent | J46: =SUM(J47:J49) -> 0
C47: Site Location (Specify) | J47: 0
C48: Other (Specify) | J48: 0
...

Sheet Year 3 - Personnel 
B1: Jobs Plus Employment Program
B3: Personnel Services (Year 3)
B4: Title | C4: Employee Name | D4: ID | E4: Type | F4: Rate | G4: Hours | H4: Salary | I4: FTE | J4: Annual | K4: Budget Amount
K5: 0
K6: 0
K7: 0
K8: 0
K9: 0
K10: 0
K11: 0
K12: 0
K13: 0
K14: 0
K15: 0
K16: 0
... K31: 0
B32: Personnel Services Subtotal | K32: =SUM(K5:K31) -> 0
B34: FICA | K34: 0
B35: Life Insurance | K35: 0
B36: Health Insurance | K36: 0
B37: Unemployment Insurance | K37: 0
B38: Disabilty | K38: 0
B39: Workers Compensation | K39: 0
B40: Retirement | K40: 0
B41: Other (Specify) | K41: 0
B42: Other (Specify) | K42: 0
B43: Other (Specify) | K43: 0
B44: Other (Specify) | K44: 0
B45: Other (Specify) | K45: 0
... B47: Other (Specify) | K47: 0
B48: Fringe Benefits | H48: Enter % Rate | J48: 0 | K48: =SUM(K34:K47)*J48 -> 0
B49: Personnel Services Total | K49: =SUM(K34:K48)+K32 -> 0

Sheet Proposal Start-up Budget
B1: Proposal Start-up Budget
B2: Jobs Plus Employment Program RFx
B3: Proposer Name:
C4: Competition Pool:
B6: Total Proposed Budget (not to exceed 10% of the 1st year's Annual Budget for the Competition | E6: 0
C8: Construction
C9: Other( Specify) | E9: 0
C10: Other( Specify) | E10: 0
C11: Other( Specify) | E11: 0
C12: Other( Specify) | E12: 0
C13: Other( Specify) | E13: 0
C14: Furniture
C15: Signage | E15: 0
C16: Desks | E16: 0
C17: Chairs | E17: 0
C18: Training Room Tables | E18: 0
C19: Training Room Chairs | E19: 0
C20: Other( Specify) | E20: 0
C21: Other( Specify) | E21: 0
C22: Other( Specify) | E22: 0
C23: Other( Specify) | E23: 0
C24: Other( Specify) | E24: 0
C25: Other( Specify) | E25: 0
C26: Other( Specify) | E26: 0
C27: Other( Specify) | E27: 0
C28: Computers & Equipment
C29: Desktops | E29: 0
C30: Laptops | E30: 0
C31: Headsets for VOIP via laptop | E31: 0
C32: External Monitor Stands | E32: 0
C33: External Monitor Stands | E33: 0
C34: External Keyboard & Mouse | E34: 0
C35: Other( Specify) | E35: 0
C36: Other( Specify) | E36: 0
C37: Other( Specify) | E37: 0
C38: Other( Specify) | E38: 0
C39: Other( Specify) | E39: 0
C40: Other( Specify) | E40: 0
... C43: Other( Specify) | E43: 0
C44: Copiers / Printers
...

Sheet Description
D1: Budget Item Descriptions
C3: Total Salary: | D3: Indicate the total cost of all employees (full-time, 35 hours or more per week; part-time and seasonal less than 35 hours per week).
C5: Total Fringe: | D5: Indicate total cost of fringe associated with your employees. Fringe benefits must include FICA. This may also include unemployment insurance, worker’s compensation, disability, pension, life insurance and medical coverage as per your policies.
C9: Operations, Support and Equipment: | D9: Includes Supplies that are not lasting or permanent in nature, such as office, program and/or maintenance supplies. Purchase of equipment that is durable or permanent, such as furniture, printers, calculators, computers etc. The rental, lease, repair and maintenance of office/programmatic equipment utilized in the program's operation. This also includes audit costs, postage, printing and publications, subscriptions, etc. Also include any other operating costs that cannot be classified in any other catergory.
C11: Utilities: | D11: Cost related to utilities such as electricity, water, gas, and telecommunications.
C13: Professional Services: | D13: Cost associated with independent entities with professional or technical skills, such as accounting or legal services, that support vendor operations.
C16: Rent and Occupancy: | D16: All rent paid by a program for all sites utilized by that program. It also includes all related charges associated with the use of the site such as minor repairs and maintenance costs.
C19: Contracted Services: | D19: Cost associated with independent entities with professional or technical skills retained to perform specific tasks or complete projects related to the program that cannot be accomplished by regular staff. Also, independent, usually nonprofit, entities retained to perform program services.
C22: Indirect Costs: | D22: Costs related to overhead incurred by a contractor operating several programs.
