Workbook

Sheet Instructions
A1: NYC Aging NORC RFP Budget Instructions
A3: The budget submission should reflect the costs and units of service for a full year (12 months) of service.
A5: Budget Narrative (Enter Into Separate Word Document)
A6: The budget narrative must address and explain ALL costs noted within the budget submission. The annual total contract value should remain within the model budget guidance; if not, please include a justification in the budget narrative.
A7: NYC Aging will approve annual budgets for NORC contracts at the following amounts based on anticipated annual clients served by the NORC, unless a contractor offers a compelling reason to exceed the limit:
A8: o Small NORC: Up to 350 clients- max of $400,000
A9: o Medium NORC: 351-600 clients- max of $500,000
A10: o Large NORC: 601+ clients- max of $600,000
A11: Summary
A12: Enter information into the orange shaded areas. All other cells are formula driven.
A14: Indirect Cost Rate · The total funding includes an indirect rate of 10%. · All price and budget proposals should be prepared in accordance with The City of New York’s Health and Human Service Cost Policy and Procedures Manual (Cost Manual). For the purpose of responding to this solicitation, proposers may only utilize the 10% de minimis Indirect Cost Rate. Enter this rate into Cell D18
A16: Services and Cost Center · Funds must be allocated to cost centers if units of service have been recorded in the corresponding service category. · Funds cannot be allocated to a cost center if the corresponding service category has zero units. · Total Program cost must be fully allocated to cost centers.
... A48: $1M+ in general liability, workers’ compensation, disability, and employer’s liability insurance, unemployment insurance, and $1M+ in vehicle liability insurance (if applicable).

Sheet Summary
B2: NYC Aging
B3: NORC RFP: Budget Template
B4: Summary
B6: Proposer Name
B8: Sponsor Name
B10: Borough Proposed
B12: Site Address
B15: FINANCIAL SUMMARY | D15: Annual Costs Charged to NYC Aging | E15: Annual Costs Paid by Match | F15: Total Program Operating Cost
B16: Personnel Services: Salary + Hourly Positions | D16: =Personnel!K29+Personnel!I54 -> #VALUE! | E16: =Personnel!H54+Personnel!J29 -> 0 | F16: =+D16+E16 -> #VALUE!
B17: Personnel Services: Fringe | D17: =Personnel!E71 -> 0 | E17: =Personnel!D71 -> 0 | F17: =+D17+E17 -> 0 | G17: =+D17/D16 -> #VALUE!
B18: Other Than Personnel Services | D18: =+OTPS!E75 -> 0 | E18: =OTPS!C72+OTPS!C61+OTPS!C49+OTPS!C32 -> 0 | F18: =+D18+E18 -> 0
B19: Other Than Personnel Services: RENT | D19: =+'OTPS Rent'!D36 -> 0 | E19: ='OTPS Rent'!C36 -> 0 | F19: =+D19+E19 -> 0
B20: Total Direct Costs | D20: =+D16+D18+D17+D19 -> #VALUE! | E20: =+E16+E18+E17+E19 -> 0 | F20: =+D20+E20 -> #VALUE!
B21: Indirect Rate - Enter Percentage | D21: 0.1
B22: Total Indirect Costs | D22: =IF($D$21>0,D20*$D$21,"-") -> #VALUE! | E22: =IF($D$21>0,E20*$D$21,"-") -> 0 | F22: =+D22+E22 -> #VALUE!
B23: Total PROPOSED Budget for Contract | D23: =+SUM(D20,D22) -> #VALUE! | E23: =+SUM(E20,E22) -> 0 | F23: =+D23+E23 -> #VALUE!
B25: Matching Funds: Value of Matching / In-Kind Goods or Services | E25: Value of Match | F25: DFTA-Funded Contract Value | G25: Percent of Matching Funds
B26: Total Match | E26: =E20 -> 0 | F26: =D23 -> #VALUE! | G26: =E26/F26 -> #VALUE!

Sheet Personnel
B2: NYC Aging
B3: NORC RFP: Budget Template
B4: Personnel
B6: Proposer Name
B10: Salaried Positions | C10: Internal ID | D10: Annual Salary (Full-time) | E10: Annual Hours (Full-time, 1820/1827) | F10: Annual Cost (Salary paid) for NORC Program | G10: Hourly rate | H10: Hours paid through this contract | I10: FTE | J10: Annual Cost Paid by Matching Funds or In-Kind Match | K10: FY Budget Amount Charged to NYC Aging | L10: SOURCE: Source of Match Funds and In-Kind Contributions, where appropriate
B11: e.g. Social Worker | C11: 1234 | D11: 60000 | E11: 1820 | F11: 50000 | G11: =IF(E11>0,D11/E11, "") -> 32.967033 | H11: =IF(F11>0,F11/G11,"") -> 1516.6667 | I11: =IF(H11>0,H11/E11,"") -> 0.83333333 | J11: 10000 | K11: =IF(F11-J11<=0,"0", F11-J11) -> 40000 | L11: CASH: Fundraising
G12: =IF(E12>0,D12/E12, "") | H12: =IF(F12>0,F12/G12,"") | I12: =IF(H12>0,H12/E12,"") -> #VALUE! | K12: =IF(F12-J12<=0,"0", F12-J12) -> 0
G13: =IF(E13>0,D13/E13, "") | H13: =IF(F13>0,F13/G13,"") | I13: =IF(H13>0,H13/E13,"") -> #VALUE! | K13: =IF(F13-J13<=0,"0", F13-J13) -> 0
G14: =IF(E14>0,D14/E14, "") | H14: =IF(F14>0,F14/G14,"") | I14: =IF(H14>0,H14/E14,"") -> #VALUE! | K14: =IF(F14-J14<=0,"0", F14-J14) -> 0
G15: =IF(E15>0,D15/E15, "") | H15: =IF(F15>0,F15/G15,"") | I15: =IF(H15>0,H15/E15,"") -> #VALUE! | K15: =IF(F15-J15<=0,"0", F15-J15) -> 0
G16: =IF(E16>0,D16/E16, "") | H16: =IF(F16>0,F16/G16,"") | I16: =IF(H16>0,H16/E16,"") -> #VALUE! | K16: =IF(F16-J16<=0,"0", F16-J16) -> 0
G17: =IF(E17>0,D17/E17, "") | H17: =IF(F17>0,F17/G17,"") | I17: =IF(H17>0,H17/E17,"") -> #VALUE! | K17: =IF(F17-J17<=0,"0", F17-J17) -> 0
G18: =IF(E18>0,D18/E18, "") | H18: =IF(F18>0,F18/G18,"") | I18: =IF(H18>0,H18/E18,"") -> #VALUE! | K18: =IF(F18-J18<=0,"0", F18-J18) -> 0
G19: =IF(E19>0,D19/E19, "") | H19: =IF(F19>0,F19/G19,"") | I19: =IF(H19>0,H19/E19,"") -> #VALUE! | K19: =IF(F19-J19<=0,"0", F19-J19) -> 0
G20: =IF(E20>0,D20/E20, "") | H20: =IF(F20>0,F20/G20,"") | I20: =IF(H20>0,H20/E20,"") -> #VALUE! | K20: =IF(F20-J20<=0,"0", F20-J20) -> 0
G21: =IF(E21>0,D21/E21, "") | H21: =IF(F21>0,F21/G21,"") | I21: =IF(H21>0,H21/E21,"") -> #VALUE! | K21: =IF(F21-J21<=0,"0", F21-J21) -> 0
G22: =IF(E22>0,D22/E22, "") | H22: =IF(F22>0,F22/G22,"") | I22: =IF(H22>0,H22/E22,"") -> #VALUE! | K22: =IF(F22-J22<=0,"0", F22-J22) -> 0
G23: =IF(E23>0,D23/E23, "") | H23: =IF(F23>0,F23/G23,"") | I23: =IF(H23>0,H23/E23,"") -> #VALUE! | K23: =IF(F23-J23<=0,"0", F23-J23) -> 0
... G27: =IF(E27>0,D27/E27, "") | H27: =IF(F27>0,F27/G27,"") | I27: =IF(H27>0,H27/E27,"") -> #VALUE! | K27: =IF(F27-J27<=0,"0", F27-J27) -> 0
B29: Total Salaries - Salaried Positions | F29: =SUM(F12:F27) -> 0 | J29: =SUM(J12:J27) -> 0 | K29: =SUM(K12:K27) -> 0
B31: Hourly Positions | C31: Internal ID | D31: Hourly Rate | E31: Annual Hours (Allocated to Contract) | F31: Annual Cost (Salary paid) for NORC Program | G31: FTE | H31: Annual Cost Paid by Matching Funds or In-Kind Match | I31: FY Budget Amount Charged to NYC Aging | J31: SOURCE: Source of Match Funds and In-Kind Contributions, where appropriate
B32: e.g. Kitchen Aide | C32: 5678 | D32: 20 | E32: 914 | F32: =IF(D32>0,D32*E32,"") -> 18280 | G32: =IF(E32>0,E32/1820,"") -> 0.5021978 | H32: 10000 | I32: =IF(F32-H32<=0,"0", F32-H32) -> 8280 | J32: CASH: Fundraising
F33: =IF(D33>0,D33*E33,"") | G33: =IF(E33>0,E33/1820,"") | I33: =IF(F33-H33<=0,"0", F33-H33) -> #VALUE!
F34: =IF(D34>0,D34*E34,"") | G34: =IF(E34>0,E34/1820,"") | I34: =IF(F34-H34<=0,"0", F34-H34) -> #VALUE!
F35: =IF(D35>0,D35*E35,"") | G35: =IF(E35>0,E35/1820,"") | I35: =IF(F35-H35<=0,"0", F35-H35) -> #VALUE!
F36: =IF(D36>0,D36*E36,"") | G36: =IF(E36>0,E36/1820,"") | I36: =IF(F36-H36<=0,"0", F36-H36) -> #VALUE!
F37: =IF(D37>0,D37*E37,"") | G37: =IF(E37>0,E37/1820,"") | I37: =IF(F37-H37<=0,"0", F37-H37) -> #VALUE!
F38: =IF(D38>0,D38*E38,"") | G38: =IF(E38>0,E38/1820,"") | I38: =IF(F38-H38<=0,"0", F38-H38) -> #VALUE!
F39: =IF(D39>0,D39*E39,"") | G39: =IF(E39>0,E39/1820,"") | I39: =IF(F39-H39<=0,"0", F39-H39) -> #VALUE!
F40: =IF(D40>0,D40*E40,"") | G40: =IF(E40>0,E40/1820,"") | I40: =IF(F40-H40<=0,"0", F40-H40) -> #VALUE!
F41: =IF(D41>0,D41*E41,"") | G41: =IF(E41>0,E41/1820,"") | I41: =IF(F41-H41<=0,"0", F41-H41) -> #VALUE!
F42: =IF(D42>0,D42*E42,"") | G42: =IF(E42>0,E42/1820,"") | I42: =IF(F42-H42<=0,"0", F42-H42) -> #VALUE!
F43: =IF(D43>0,D43*E43,"") | G43: =IF(E43>0,E43/1820,"") | I43: =IF(F43-H43<=0,"0", F43-H43) -> #VALUE!
F44: =IF(D44>0,D44*E44,"") | G44: =IF(E44>0,E44/1820,"") | I44: =IF(F44-H44<=0,"0", F44-H44) -> #VALUE!
... F52: =IF(D52>0,D52*E52,"") | G52: =IF(E52>0,E52/1820,"") | I52: =IF(F52-H52<=0,"0", F52-H52) -> #VALUE!
B54: Total Salaries - Hourly Positions: | F54: =SUM(F33:F52) -> 0 | H54: =SUM(H33:H52) -> 0 | I54: =SUM(I33:I52) -> #VALUE!
B56: Fringe Benefits | C56: Annual Cost to NORC Program | D56: Annual Cost Paid by Matching Funds or In-Kind Match | E56: Remaining Fringe Charged to NYC Aging | F56: SOURCE: Source of Match Funds, if applicable | G56: Rate
B57: FICA | C57: =$F$29*G57 -> 0 | E57: =+C57-D57 -> 0 | G57: 0.0765 | H57: - Must be 7.65%
B58: Life Insurance | C58: =$F$29*G58 -> 0 | E58: =+C58-D58 -> 0
B59: Health Insurance | C59: =$F$29*G59 -> 0 | E59: =+C59-D59 -> 0
...

Sheet OTPS
A2: NYC Aging
A3: NORC RFP: Budget Template
A4: Other Than Personnel Services
A6: Proposer Name | B6: {=IF(Summary!C6:C6=0,"",Summary!C6:C6)}
A9: OTPS - Operations and Support
A11: Operations & Support | B11: Annual Cost to NORC Program | C11: Annual Cost Paid by Matching Funds or In-Kind Match | D11: FY Budget Amount Charged to NYC Aging | E11: SOURCE: Source of Match Funds and In-Kind Contributions, where appropriate
A12: Office Supplies | D12: =IF(B12-C12<=0,"0", B12-C12) -> 0
A13: Facilities Repairs & Maintenance | D13: =IF(B13-C13<=0,"0", B13-C13) -> 0
A14: Safety and Health | D14: =IF(B14-C14<=0,"0", B14-C14) -> 0
A15: Waste & Recycling Removal | D15: =IF(B15-C15<=0,"0", B15-C15) -> 0
A16: Staff Transportation | D16: =IF(B16-C16<=0,"0", B16-C16) -> 0
A17: Staff Training | D17: =IF(B17-C17<=0,"0", B17-C17) -> 0
A18: Postage | D18: =IF(B18-C18<=0,"0", B18-C18) -> 0
A19: Recruitment and Advertising (Client) | D19: =IF(B19-C19<=0,"0", B19-C19) -> 0
A20: Liability, Property, and Other Insurance | D20: =IF(B20-C20<=0,"0", B20-C20) -> 0
A21: Vehicle Insurance | D21: =IF(B21-C21<=0,"0", B21-C21) -> 0
A22: Vehicle Operations and Maintenance | D22: =IF(B22-C22<=0,"0", B22-C22) -> 0
A23: Real Estate Tax | D23: =IF(B23-C23<=0,"0", B23-C23) -> 0
... A29: Other (Evergreen Laptop Usage & Maintanence) | D29: =IF(B29-C29<=0,"0", B29-C29) -> 0
A32: Total Operations & Support | B32: =SUM(B12:B29) -> 0 | C32: =SUM(C12:C29) -> 0 | D32: =SUM(D12:D29) -> 0
A35: OTPS - Utilities
A37: Utilities | B37: Annual Cost to NORC Program | C37: Annual Cost Paid by Matching Funds or In-Kind Match | D37: FY Budget Amount Charged to NYC Aging | E37: SOURCE: Source of Match Funds and In-Kind Contributions, where appropriate
A38: Telephone - Land Lines | D38: =IF(B38-C38<=0,"0", B38-C38) -> 0
A39: Electric | D39: =IF(B39-C39<=0,"0", B39-C39) -> 0
A40: Water/Sewer | D40: =IF(B40-C40<=0,"0", B40-C40) -> 0
A41: Oil - Heating | D41: =IF(B41-C41<=0,"0", B41-C41) -> 0
A42: Gas - Heating | D42: =IF(B42-C42<=0,"0", B42-C42) -> 0
A43: Security Systems | D43: =IF(B43-C43<=0,"0", B43-C43) -> 0
A44: Internet Connectivity | D44: =IF(B44-C44<=0,"0", B44-C44) -> 0
A45: Mobile Phones | D45: =IF(B45-C45<=0,"0", B45-C45) -> 0
A46: Bundled Communications | D46: =IF(B46-C46<=0,"0", B46-C46) -> 0
A49: Total Utilities: | B49: =SUM(B38:B46) -> 0 | C49: =SUM(C38:C46) -> 0 | D49: =SUM(D38:D46) -> 0
A52: OTPS - Professional Services
A54: Professional Services | B54: Annual Cost to NORC Program | C54: Annual Cost Paid by Matching Funds or In-Kind Match | D54: FY Budget Amount Charged to NYC Aging | E54: SOURCE: Source of Match Funds and In-Kind Contributions, where appropriate
A55: Accounting Costs | D55: =IF(B55-C55<=0,"0", B55-C55) -> 0
A56: Legal Costs | D56: =IF(B56-C56<=0,"0", B56-C56) -> 0
A57: Audit Costs | D57: =IF(B57-C57<=0,"0", B57-C57) -> 0
A58: Other | D58: =IF(B58-C58<=0,"0", B58-C58) -> 0
A61: Total Professional Services: | B61: =SUM(B55:B58) -> 0 | C61: =SUM(C55:C58) -> 0 | D61: =SUM(D55:D58) -> 0
A64: OTPS - Contracted Services
...

Sheet OTPS Rent
A2: NYC Aging
A3: NORC RFP: Budget Template
A4: Other Than Personnel Services - Rental Costs
A6: Proposer Name | B6: {=IF(Summary!C6:C6=0,"",Summary!C6:C6)}
A10: Contracted Program Staff / Client Count
A11: Number of Staff Employed by Program/Contract
A12: Number of Staff based out of given location
A13: Number of Clients Served at Location
A15: Program Location Information
A16: Term of Lease
A17: Is this a lease renewal?
A18: Street Address, incl Floor or Suite
A19: Borough
A20: Zip
A21: Community District
A22: Cost per St Foot
... A30: City Agency Responsible
A32: Rental Cost | B32: Annual Cost to NORC Program | C32: Annual Cost Paid by Matching Funds or In-Kind Match | D32: FY Budget Amount Charged to NYC Aging | E32: Calculation | F32: SOURCE: Source of Match Funds and In-Kind Contributions, where appropriate
A33: Example of Matched Line-Item | B33: 1000 | C33: 500 | D33: =IF(B33-C33<=0,"0", B33-C33) -> 500 | F33: In-Kind: Provided by XYZ Foundation
A34: Sq Ft Utilized for Contracted Activity
A35: Cost per Sq Ft
A36: Total Cost of Square Footage Utilized; to be charged to NYC Aging | D36: =D34*D35 -> 0 | E36: =[(Cost per Sq. Ft.) x (Sq. Ft. for NYC Aging Activity)] This is your Rental Cost.

Sheet Service - Cost Center
A1: NYC Aging
A2: NORC RFP: Budget Template
A3: Services & Cost Centers
A5: Proposer Name | B5: {=IF(Summary!C5:C5=0,"",Summary!C5:C5)}
A7: Services
A8: SERVICE ID | B8: SERVICE NAME | C8: COST CENTER | D8: COST CENTER NAME | E8: Units
A9: NHPE | B9: NORC HEALTH PROMOTION - Evidence Based | C9: NEB | D9: NORC EB HEALTH
A10: NHPN | B10: NORC HEALTH PROMOTION - Other | C10: NNE | D10: NORC NE SERV
A11: NOCA | B11: NORC CASE ASSISTANCE | C11: NIA | D11: NORC CASE ASSISTANCE
A12: NOCM | B12: NORC CASE MANAGEMENT | C12: NCM | D12: NORC CASE MANAGEMENT
A13: NOHA | B13: NORC HEALTHCARE ASSISTANCE | C13: NNE | D13: NORC NE SERV
A14: NOHM | B14: NORC HEALTHCARE MANAGEMENT | C14: NNE | D14: NORC NE SERV
A15: NCNM | B15: NORC CONGREGATE MEALS | C15: NCO | D15: NORC CONGREGATE MEALS
A16: NCGG | B16: NORC GRAB & GO | C16: NCP | D16: NORC CONGREGATE-Portable
A17: NOER | B17: NORC EDUCATION/RECREATION | C17: NOS | D17: NORC Other-Socialization
A18: NOFV | B18: NORC FRIENDLY VISITING | C18: NOS | D18: NORC Other-Socialization
A19: NOHC | B19: NORC PERSONAL CARE/HOME HEALTH CARE | C19: NPC | D19: NORC PERSONAL CARE II
A20: NOHK | B20: NORC HOUSEKEEPING | C20: NPH | D20: NORC PERSONAL CARE I (Homemaker)
... A23: NOTR | B23: NORC TRANSPORTATION | C23: NTR | D23: NORC Transportation
A26: Cost Center | C26: Costs Associated with Achieveing Units
A27: NORC EB HEALTH
A28: NORC NE SERV
A29: NORC CASE ASSISTANCE
A30: NORC CASE MANAGEMENT
A31: NORC CONGREGATE MEALS
A32: NORC Other-Socialization
A33: NORC PERSONAL CARE II
A34: NORC PERSONAL CARE I (Homemaker)
A35: NORC Shopping Assitance
A36: NORC Transportation
A37: Total Cost to be Allocated | C37: =Summary!D23-SUM(C27:C36) -> #VALUE! | D37: - Must be O

Sheet Startup
B2: NYC Department for the Aging
B3: Case Management
B4: START-UP TEMPLATE
B6: CMA Name: | C6: {=IF(Summary!C6:C6=0,"",Summary!C6:C6)}
B8: Region Proposed: | C8: {=IF(Summary!C10:C10=0,"",Summary!C10:C10)}
B10: Cultural/Languages Offered: | C10: =IF(Personnel!#REF!=0,"",Personnel!#REF!) -> #REF!
B12: Site Address: | C12: =IF(Personnel!#REF!=0,"",Personnel!#REF!) -> #REF!
B14: Projected Date for Incurring Expenses Below:
B16: Projected Start Date of Program
B19: Salaried Positions | C19: Internal ID | D19: Annual Salary (Full-time) | E19: Annual Hours (Full-time, 1820/1827) | F19: FY Budget (Salary paid through this contract) | G19: Hourly rate | H19: Hours paid through this contract | I19: FTE
B20: e.g. Social Worker | C20: 1234 | D20: 60000 | E20: 1820 | F20: 50000 | G20: =IF(E20>0,D20/E20, "") -> 32.967033 | H20: =IF(F20>0,F20/G20,"") -> 1516.6667 | I20: =IF(H20>0,H20/E20,"") -> 0.83333333
G21: =IF(E21>0,D21/E21, "") | H21: =IF(F21>0,F21/G21,"") | I21: =IFERROR(IF(H21>0,H21/E21,""),"")
G22: =IF(E22>0,D22/E22, "") | H22: =IF(F22>0,F22/G22,"") | I22: =IFERROR(IF(H22>0,H22/E22,""),"")
G23: =IF(E23>0,D23/E23, "") | H23: =IF(F23>0,F23/G23,"") | I23: =IFERROR(IF(H23>0,H23/E23,""),"")
G24: =IF(E24>0,D24/E24, "") | H24: =IF(F24>0,F24/G24,"") | I24: =IFERROR(IF(H24>0,H24/E24,""),"")
B26: Total Salaries - Salaried Positions | F26: =SUM(F21:F24) -> 0
B28: Hourly Positions | C28: Internal ID | D28: Hourly Rate | E28: Annual Hours (Allocated to Contract) | F28: FY Budget (Salary paid through this contract) | G28: FTE | H28: FICA
B29: e.g. Kitchen Aide | C29: 5678 | D29: 20 | E29: 914 | F29: =IF(D29>0,D29*E29,"") -> 18280 | G29: =IF(E29>0,E29/1820,"") -> 0.5021978 | H29: =IF(E29>0,F29*0.0765,"") -> 1398.42
F30: =IF(D30>0,D30*E30,"") | G30: =IF(E30>0,E30/1827,"") | H30: =IF(E30>0,F30*0.0765,"")
F31: =IF(D31>0,D31*E31,"") | G31: =IF(E31>0,E31/1827,"")
F32: =IF(D32>0,D32*E32,"") | G32: =IF(E32>0,E32/1827,"")
F33: =IF(D33>0,D33*E33,"") | G33: =IF(E33>0,E33/1827,"")
B35: Total Salaries - Hourly Positions: | F35: =SUM(F30:F33) -> 0
B37: Fringe Benefits | C37: FY Budget | D37: Rate
B38: FICA | D38: =IF(C38>0,C38/$C$56,"") | E38: - Must be 7.65%
B39: Life Insurance | D39: =IF(C39>0,C39/$C$56,"")
B40: Health Insurance | D40: =IF(C40>0,C40/$C$56,"")
B41: Unemployment Insurance | D41: =IF(C41>0,C41/$C$56,"")
B42: Long Term Disability | D42: =IF(C42>0,C42/$C$56,"")
B43: Short Term Disability | D43: =IF(C43>0,C43/$C$56,"")
B44: Workers Comp | D44: =IF(C44>0,C44/$C$56,"")
B45: Welfare Fund | D45: =IF(C45>0,C45/$C$56,"")
B46: MTA - NYC Commuter Taxes | D46: =IF(C46>0,C46/$C$56,"")
B47: Tuition Reimbursement | D47: =IF(C47>0,C47/$C$56,"")
B48: Retirement | D48: =IF(C48>0,C48/$C$56,"")
B49: Employee Assistance Program | D49: =IF(C49>0,C49/$C$56,"")
B50: FSA | D50: =IF(C50>0,C50/$C$56,"")
B51: Other | D51: =IF(C51>0,C51/$C$56,"")
B52: Total Fringe | C52: =+SUM(C38:C51) -> 0 | D52: =+SUM(D38:D51) -> 0
B54: Total Salary & Fringe: | C54: =+SUM(C56,C58) -> 0
...
