Workbook
Name YesNo: '[1]DropDown List'!$B$3:$B$5

Sheet 1. Annual Budget
B2: Proposal Budget Summary
B4: Proposer's Name:
B6: Line Item | H6: Start-Up Budget | I6: Annual Budget | J6: YTD Invoiced Amount
B7: Total Annual Funding Request* | H7: =H10+H40 -> 0 | I7: =I10+I40 -> 0 | J7: =J9+J10 -> 0
B10: - | C10: Total Direct Costs | H10: =SUM(H12+H21) -> 0 | I10: =SUM(I12+I21) -> 0 | J10: =J11+J12 -> 0
C12: - | D12: Total Salary and Fringe | H12: =SUM(H13:H14) -> 0 | I12: =SUM(I13:I14) -> 0 | J12: =J13+J14 -> 0
D13: Total Salary | H13: =+'2. Personnel Services'!E7 -> 0 | I13: =+'2. Personnel Services'!F7 -> 0 | J13: 0
D14: Total Fringe | F14: (Enter % rate) | H14: =SUM(H15:H19) -> 0 | I14: =SUM(I15:I19) -> 0 | J14: 0
D15: FICA | I15: 0
D16: Health Insurance | H16: 0 | I16: 0
D17: Unemployment/Disability | H17: 0 | I17: 0
D18: Pension | H18: 0 | I18: 0
D19: Other (Specify) | H19: 0 | I19: 0
C21: - | D21: Total OTPS | H21: =SUM(H22:H32)-H26 -> 0 | I21: =SUM(I22:I32) -> 0 | J21: =J22+#REF!+J23+J24+J31 -> #REF!
D22: Equipment and Support | H22: =+'3. Equipment'!E7 -> 0 | I22: =+'3. Equipment'!F7 -> 0 | J22: 0
D23: Professional Services | H23: 0 | I23: 0 | J23: 0
D24: Program Space Rent | H24: 0 | I24: 0 | J24: 0
D25: Program Space Utilities | H25: 0 | I25: 0
D26: Contingency Expenses | I26: 0
D27: Contracted Services | H27: 0 | I27: 0
D28: Supplies and Material (Office) | H28: 0 | I28: 0
D29: Supplies and Materials (Program) | H29: 0 | I29: 0
D30: Travel Expense (Staff) | H30: 0 | I30: 0
D31: Travel Expense (Client) | H31: 0 | I31: 0 | J31: 0
D32: Other OTPS* (Please Specify below) | H32: =SUM(H33:H37) -> 0 | I32: =SUM(I33:I37) -> 0
H33: 0 | I33: 0
H34: 0 | I34: 0
H35: 0 | I35: 0
H36: 0 | I36: 0
H37: 0 | I37: 0
D38: *Please note: include equipment rentals and minor rehab in "Other OTPS"
B39: - | C39: Indirect Costs
C40: - | D40: Total Indirect Costs | H40: =H42 -> 0 | I40: =I41+I42 -> 0
D41: Administrative Overhead | I41: 0
D42: Other Indirect Costs (Specify) | H42: 0 | I42: 0
B46: - | C46: Annual Funding
D47: Total Annual Funding Available for Operations and Services** | I47: =SUM(I48+I55) -> 0
D48: Total Annual Funding Available for Operations | I48: =SUM(I49:I53) -> 0
D49: Unit Size | G49: Number of Units | H49: Proposed Annual Operations Award Amount Per Unit
D50: Studio | I50: =G50*H50 -> 0
...

Sheet 2. Personnel Services
B2: Total Personnel Services (PS) Budget Summary
B4: Proposer's Name: | D4: =T('1. Annual Budget'!F4:I4)
B6: Line Item | E6: Start-Up Budget | F6: Annual Budget
B7: Total Personnel Services (PS) Budget Request | E7: =SUM(E11:E40) -> 0 | F7: =SUM(F11:F40) -> 0
C10: # of FTEs | D10: Job Title | E10: Start-Up Cost | F10: Annual Cost
E11: 0 | F11: 0
E12: 0 | F12: 0
E13: 0 | F13: 0
E14: 0 | F14: 0
E15: 0 | F15: 0
E16: 0 | F16: 0
E17: 0 | F17: 0
E18: 0 | F18: 0
E19: 0 | F19: 0
E20: 0 | F20: 0
E21: 0 | F21: 0
E22: 0 | F22: 0
... E40: 0 | F40: 0

Sheet 3. Equipment
B2: Total Equipment and Support Budget Summary
B4: Proposer's Name: | D4: =T('1. Annual Budget'!F4:I4)
B6: Line Item | E6: Start-Up Budget | F6: Annual Budget
B7: Total Equipment and Support Budget Request | E7: =SUM(E11:E40) -> 0 | F7: =SUM(F11:F40) -> 0
C10: Equipment and Support Items | E10: Start-Up Cost | F10: Annual Cost
E11: 0 | F11: 0
E12: 0 | F12: 0
E13: 0 | F13: 0
E14: 0 | F14: 0
E15: 0 | F15: 0
E16: 0 | F16: 0
E17: 0 | F17: 0
E18: 0 | F18: 0
E19: 0 | F19: 0
E20: 0 | F20: 0
E21: 0 | F21: 0
E22: 0 | F22: 0
... E40: 0 | F40: 0

Sheet 4. Descriptions
B2: Budget Item Descriptions
C4: Total Salary: | D4: Indicate the total cost of all employees (full-time, 35 hours or more per week; part-time and seasonal less than 35 hours per week).
C6: Total Fringe: | D6: Indicate total cost of fringe associated with your employees. Fringe benefits must include FICA. This may also include unemployment insurance, worker’s compensation, disability, pension, life insurance and medical coverage as per your policies.
A8: Support and Equipment : | D8: Includes Supplies that are not lasting or permanent in nature, such as office, program and/or maintenance supplies and food. Purchase of equipment that is durable or permanent, such as apartment and office furniture, printers, calculators, computers etc. The rental, lease, repair and maintenance of office/programmatic equipment utilized in the program's operation. This also includes audit costs, postage, printing and publications, subscriptions, etc. Also include any other operating costs that cannot be classified in any other category.
C10: Utilities: | D10: Cost related to utilities such as electricity, water, gas and telecommunications for the office space.
A13: Professional Services: | D13: Cost associated with independent entities with professional or technical skills, such as accounting or legal services, that support vendor operations.
A16: Rent and Occupancy: | D16: Rent paid for program service space.
A18: Contracted Services: | D18: Cost associated with independent entities with professional or technical skills retained to perform specific tasks or complete projects related to the program that cannot be accomplished by regular staff. Also, independent, usually nonprofit, entities retained to perform program services.
A21: Contingency Funding: | D21: Funding of $600 per tenant per year to cover rent arrears and emergency resident expenses.
C23: Indirect Costs: | D23: Costs related to overhead incurred by a contractor operating several programs. Agency will approve up to 10% in administrative overhead. Anything over 10% requires prior approval up to a maximum of 15%.
C26: Program Income: | D26: Anticipated income the program generates. This could be client fees or contributions, earned revenue, In-kind contribution, private match, or grant funds to support the program.
A29: Contractor Contributions: | D29: Other sources of revenue which shall be included in annual, on-going budget. It Includes fundraising, grants, etc. It excludes funds targeted for a specific use by a governmental entity or other benefactor.
C31: Start-Up: | D31: Includes all expenses required to make a program operational including security deposits and brokers fees (one time only).
